BEGIN:VCALENDAR
VERSION:2.0
PRODID:-//Town of Broadway Virginia - ECPv6.15.20//NONSGML v1.0//EN
CALSCALE:GREGORIAN
METHOD:PUBLISH
X-WR-CALNAME:Town of Broadway Virginia
X-ORIGINAL-URL:https://broadwayva.gov
X-WR-CALDESC:Events for Town of Broadway Virginia
REFRESH-INTERVAL;VALUE=DURATION:PT1H
X-Robots-Tag:noindex
X-PUBLISHED-TTL:PT1H
BEGIN:VTIMEZONE
TZID:America/New_York
BEGIN:DAYLIGHT
TZOFFSETFROM:-0500
TZOFFSETTO:-0400
TZNAME:EDT
DTSTART:20230312T070000
END:DAYLIGHT
BEGIN:STANDARD
TZOFFSETFROM:-0400
TZOFFSETTO:-0500
TZNAME:EST
DTSTART:20231105T060000
END:STANDARD
BEGIN:DAYLIGHT
TZOFFSETFROM:-0500
TZOFFSETTO:-0400
TZNAME:EDT
DTSTART:20240310T070000
END:DAYLIGHT
BEGIN:STANDARD
TZOFFSETFROM:-0400
TZOFFSETTO:-0500
TZNAME:EST
DTSTART:20241103T060000
END:STANDARD
BEGIN:DAYLIGHT
TZOFFSETFROM:-0500
TZOFFSETTO:-0400
TZNAME:EDT
DTSTART:20250309T070000
END:DAYLIGHT
BEGIN:STANDARD
TZOFFSETFROM:-0400
TZOFFSETTO:-0500
TZNAME:EST
DTSTART:20251102T060000
END:STANDARD
BEGIN:DAYLIGHT
TZOFFSETFROM:-0500
TZOFFSETTO:-0400
TZNAME:EDT
DTSTART:20260308T070000
END:DAYLIGHT
BEGIN:STANDARD
TZOFFSETFROM:-0400
TZOFFSETTO:-0500
TZNAME:EST
DTSTART:20261101T060000
END:STANDARD
END:VTIMEZONE
BEGIN:VEVENT
DTSTART;TZID=America/New_York:20250930T180000
DTEND;TZID=America/New_York:20250930T190000
DTSTAMP:20260423T085214
CREATED:20250821T201541Z
LAST-MODIFIED:20250821T202122Z
UID:10000243-1759255200-1759258800@broadwayva.gov
SUMMARY:Town of Broadway Public Safety Community Meeting
DESCRIPTION:
URL:https://broadwayva.gov/calendar-events/town-of-broadway-public-safety-meeting/
LOCATION:Sunset Drive Church\, 127 S Sunset Drive\, Broadway\, VA\, 22815\, United States
END:VEVENT
BEGIN:VEVENT
DTSTART;TZID=America/New_York:20240511T073000
DTEND;TZID=America/New_York:20240511T090000
DTSTAMP:20260423T085214
CREATED:20240510T132234Z
LAST-MODIFIED:20240510T132234Z
UID:10000140-1715412600-1715418000@broadwayva.gov
SUMMARY:Community Pancake Breakfast at Sunset Drive Church - 5/11
DESCRIPTION:Community Pancake Breakfast\, Saturday\, May 11\, 7:30-9am at Sunset Drive Church. They will have pancakes\, ham\, bacon\, eggs\, sausage gravy\, juice and coffee. They will have pancakes\, bacon\, ham\, scrambled eggs\, sausage gravy\, juice and coffee! A free will offering will benefit Firefighter Mongold who was injured in the Bergton Fires. Come hungry and bring your friends!
URL:https://broadwayva.gov/calendar-events/community-pancake-breakfast-at-sunset-drive-church-5-11/
LOCATION:Sunset Drive Church\, 127 S Sunset Drive\, Broadway\, VA\, 22815\, United States
CATEGORIES:Fundraising
END:VEVENT
BEGIN:VEVENT
DTSTART;TZID=America/New_York:20240413T073000
DTEND;TZID=America/New_York:20240413T090000
DTSTAMP:20260423T085214
CREATED:20240405T120152Z
LAST-MODIFIED:20240405T120152Z
UID:10000129-1712993400-1712998800@broadwayva.gov
SUMMARY:Community Pancake Breakfast at Sunset Drive Church - 4/13
DESCRIPTION:Community Pancake Breakfast\, Saturday April 13th\, 7:30-9am at Sunset Drive Church. They will have pancakes\, ham\, bacon\, eggs\, sausage gravy\, juice and coffee. A free will offering will be collected to support the community outreach at Sunset Drive UMC. They strive to serve the community in many ways including: feeding programs with the schools\, helping families in need\, support cub scouts\, WRE\, and many others as needs arise. Bring your friends and neighbors out to enjoy a good breakfast and help them support our local community.
URL:https://broadwayva.gov/calendar-events/community-pancake-breakfast-at-sunset-drive-church-4-13/
LOCATION:Sunset Drive Church\, 127 S Sunset Drive\, Broadway\, VA\, 22815\, United States
CATEGORIES:Fundraising
END:VEVENT
BEGIN:VEVENT
DTSTART;TZID=America/New_York:20240210T073000
DTEND;TZID=America/New_York:20240210T090000
DTSTAMP:20260423T085214
CREATED:20240201T151711Z
LAST-MODIFIED:20240201T151711Z
UID:10000016-1707550200-1707555600@broadwayva.gov
SUMMARY:Community Pancake Breakfast at Sunset Drive Church
DESCRIPTION:Come enjoy a delicious pancake breakfast complete with eggs\, bacon\, ham\, sausage gravy\, juice and coffee\, from 7:30-9am. There will be a free will offering to support local students who are battling cancer. Come out to support them and share in a great meal.
URL:https://broadwayva.gov/calendar-events/community-pancake-breakfast-at-sunset-drive-church/
LOCATION:Sunset Drive Church\, 127 S Sunset Drive\, Broadway\, VA\, 22815\, United States
CATEGORIES:Fundraising
END:VEVENT
END:VCALENDAR