BEGIN:VCALENDAR
VERSION:2.0
PRODID:-//Town of Broadway Virginia - ECPv6.15.20//NONSGML v1.0//EN
CALSCALE:GREGORIAN
METHOD:PUBLISH
X-ORIGINAL-URL:https://broadwayva.gov
X-WR-CALDESC:Events for Town of Broadway Virginia
REFRESH-INTERVAL;VALUE=DURATION:PT1H
X-Robots-Tag:noindex
X-PUBLISHED-TTL:PT1H
BEGIN:VTIMEZONE
TZID:America/New_York
BEGIN:DAYLIGHT
TZOFFSETFROM:-0500
TZOFFSETTO:-0400
TZNAME:EDT
DTSTART:20230312T070000
END:DAYLIGHT
BEGIN:STANDARD
TZOFFSETFROM:-0400
TZOFFSETTO:-0500
TZNAME:EST
DTSTART:20231105T060000
END:STANDARD
BEGIN:DAYLIGHT
TZOFFSETFROM:-0500
TZOFFSETTO:-0400
TZNAME:EDT
DTSTART:20240310T070000
END:DAYLIGHT
BEGIN:STANDARD
TZOFFSETFROM:-0400
TZOFFSETTO:-0500
TZNAME:EST
DTSTART:20241103T060000
END:STANDARD
BEGIN:DAYLIGHT
TZOFFSETFROM:-0500
TZOFFSETTO:-0400
TZNAME:EDT
DTSTART:20250309T070000
END:DAYLIGHT
BEGIN:STANDARD
TZOFFSETFROM:-0400
TZOFFSETTO:-0500
TZNAME:EST
DTSTART:20251102T060000
END:STANDARD
BEGIN:DAYLIGHT
TZOFFSETFROM:-0500
TZOFFSETTO:-0400
TZNAME:EDT
DTSTART:20260308T070000
END:DAYLIGHT
BEGIN:STANDARD
TZOFFSETFROM:-0400
TZOFFSETTO:-0500
TZNAME:EST
DTSTART:20261101T060000
END:STANDARD
BEGIN:DAYLIGHT
TZOFFSETFROM:-0500
TZOFFSETTO:-0400
TZNAME:EDT
DTSTART:20270314T070000
END:DAYLIGHT
BEGIN:STANDARD
TZOFFSETFROM:-0400
TZOFFSETTO:-0500
TZNAME:EST
DTSTART:20271107T060000
END:STANDARD
END:VTIMEZONE
BEGIN:VEVENT
DTSTART;TZID=America/New_York:20260328T100000
DTEND;TZID=America/New_York:20260328T110000
DTSTAMP:20260422T104940
CREATED:20260115T160407Z
LAST-MODIFIED:20260115T160407Z
UID:10000244-1774692000-1774695600@broadwayva.gov
SUMMARY:The Great Broadway Easter Egg Hunt - 2026
DESCRIPTION:Sponsored and coordinated by Broadway Lions Club & Town with sponsorships from businesses/civic clubs\nAll details posted in events on Facebook (Broadway Lions Club)\nWant to sponsor or volunteer? Call Lion Chad Comer at 540-896-6358.\nThe hunt will begin promptly at 10:05 a.m. (please allow time to find parking and walk to your age group). Overflow parking can be found in the field across from the Park on Turner Avenue. We will have eggs hidden in locations based on age groups. Crafts and refreshments will be available while supplies last at the pavilion. And lastly\, the Easter Bunny will be available for photos! This event is open to children 12 years and younger. Event is rain or shine. Any weather-related updates will be shared on social media.
URL:https://broadwayva.gov/calendar-events/the-great-broadway-easter-egg-hunt-2026/
LOCATION:Heritage Park\, 145 Turner Ave.\, Broadway\, VA\, 22815\, United States
CATEGORIES:Children's Events,Community Event
ATTACH;FMTTYPE=image/gif:https://broadwayva.gov/wp-content/uploads/2022/01/easter_egg_hunt.gif
END:VEVENT
BEGIN:VEVENT
DTSTART;TZID=America/New_York:20251203T183000
DTEND;TZID=America/New_York:20251203T193000
DTSTAMP:20260422T104940
CREATED:20250322T203648Z
LAST-MODIFIED:20250322T203648Z
UID:10000235-1764786600-1764790200@broadwayva.gov
SUMMARY:Hometown Holiday Event & Tree Lighting - 2025
DESCRIPTION:Sponsored and coordinated by Broadway Lions Club\, Town\, United Bank and additional businesses/civic clubs.\n\n 
URL:https://broadwayva.gov/calendar-events/hometown-holiday-event-tree-lighting-2025/
LOCATION:Heritage Park\, 145 Turner Ave.\, Broadway\, VA\, 22815\, United States
CATEGORIES:Children's Events,Community Event,Holiday
ATTACH;FMTTYPE=image/gif:https://broadwayva.gov/wp-content/uploads/2022/01/tree_lighting.gif
END:VEVENT
BEGIN:VEVENT
DTSTART;VALUE=DATE:20250927
DTEND;VALUE=DATE:20250928
DTSTAMP:20260422T104940
CREATED:20250322T200723Z
LAST-MODIFIED:20250322T200723Z
UID:10000230-1758931200-1759017599@broadwayva.gov
SUMMARY:Oktoberfest presented by Broadway Hometown Partnership - 2025
DESCRIPTION:Coordinated and sponsored by Broadway Hometown Partnership with sponsorships from businesses
URL:https://broadwayva.gov/calendar-events/oktoberfest-presented-by-broadway-hometown-partnership-2025/
LOCATION:Heritage Park\, 145 Turner Ave.\, Broadway\, VA\, 22815\, United States
CATEGORIES:Festival,Live Entertainment
ATTACH;FMTTYPE=image/gif:https://broadwayva.gov/wp-content/uploads/2022/01/brew_fest.gif
END:VEVENT
BEGIN:VEVENT
DTSTART;VALUE=DATE:20250920
DTEND;VALUE=DATE:20250921
DTSTAMP:20260422T104940
CREATED:20250322T200356Z
LAST-MODIFIED:20250714T125258Z
UID:10000228-1758326400-1758412799@broadwayva.gov
SUMMARY:Broadway Movie Night - September 2025
DESCRIPTION:Coordinated and sponsored by Broadway Lions Club\, the Town\, and Park View Federal Credit Union.\nMovie starts at dusk.
URL:https://broadwayva.gov/calendar-events/broadway-movie-night-september/
LOCATION:Heritage Park\, 145 Turner Ave.\, Broadway\, VA\, 22815\, United States
CATEGORIES:Children's Events,Community Event
ATTACH;FMTTYPE=image/png:https://broadwayva.gov/wp-content/uploads/2023/01/Untitled-design-21.png
END:VEVENT
BEGIN:VEVENT
DTSTART;VALUE=DATE:20250705
DTEND;VALUE=DATE:20250706
DTSTAMP:20260422T104940
CREATED:20250322T195645Z
LAST-MODIFIED:20250322T204207Z
UID:10000226-1751673600-1751759999@broadwayva.gov
SUMMARY:Red\, White & Brew - 2025
DESCRIPTION:Coordinated and sponsored by Broadway Hometown Partnership with sponsorships from businesses
URL:https://broadwayva.gov/calendar-events/red-white-brew-2025/
LOCATION:Heritage Park\, 145 Turner Ave.\, Broadway\, VA\, 22815\, United States
CATEGORIES:Festival,Live Entertainment
END:VEVENT
BEGIN:VEVENT
DTSTART;VALUE=DATE:20250531
DTEND;VALUE=DATE:20250601
DTSTAMP:20260422T104940
CREATED:20250322T193835Z
LAST-MODIFIED:20250530T121804Z
UID:10000224-1748649600-1748735999@broadwayva.gov
SUMMARY:Broadway Movie Night - May 2025
DESCRIPTION:Coordinated and sponsored by Broadway Lions Club & Town with sponsorship by local business\nThose interested in sponsoring or volunteering can call Lion / Councilman Chad Comer at 540-896-6358.
URL:https://broadwayva.gov/calendar-events/broadway-movie-night-heritage-park/
LOCATION:Heritage Park\, 145 Turner Ave.\, Broadway\, VA\, 22815\, United States
CATEGORIES:Children's Events,Community Event
ATTACH;FMTTYPE=image/png:https://broadwayva.gov/wp-content/uploads/2023/01/Untitled-design-21.png
END:VEVENT
BEGIN:VEVENT
DTSTART;VALUE=DATE:20250517
DTEND;VALUE=DATE:20250518
DTSTAMP:20260422T104940
CREATED:20250322T193344Z
LAST-MODIFIED:20250322T210001Z
UID:10000223-1747440000-1747526399@broadwayva.gov
SUMMARY:Rotary Rocks at Heritage Park - 2025
DESCRIPTION:Coordinated by Rotary Club of Broadway-Timberville
URL:https://broadwayva.gov/calendar-events/rotary-rocks-at-heritage-park/
LOCATION:Heritage Park\, 145 Turner Ave.\, Broadway\, VA\, 22815\, United States
CATEGORIES:Festival,Fundraising,Live Entertainment
END:VEVENT
BEGIN:VEVENT
DTSTART;VALUE=DATE:20250426
DTEND;VALUE=DATE:20250427
DTSTAMP:20260422T104940
CREATED:20250322T192642Z
LAST-MODIFIED:20250324T180723Z
UID:10000221-1745625600-1745711999@broadwayva.gov
SUMMARY:Gary E. Post Kids Fishing Day* - 2025
DESCRIPTION:Sponsored and coordinated by Broadway Hometown Partnership with sponsorships from businesses/civic clubs\n\n  \n*May 3 – Gary E. Post Kids Fishing Day Rain Date (Heritage Park) \n 
URL:https://broadwayva.gov/calendar-events/gary-e-post-kids-fishing-day-2/
LOCATION:Heritage Park\, 145 Turner Ave.\, Broadway\, VA\, 22815\, United States
CATEGORIES:Children's Events,Community Event
ATTACH;FMTTYPE=image/gif:https://broadwayva.gov/wp-content/uploads/2022/01/kids_fishing_day.gif
END:VEVENT
BEGIN:VEVENT
DTSTART;TZID=America/New_York:20250412T100000
DTEND;TZID=America/New_York:20250412T110000
DTSTAMP:20260422T104940
CREATED:20250322T191248Z
LAST-MODIFIED:20250322T202538Z
UID:10000218-1744452000-1744455600@broadwayva.gov
SUMMARY:The Great Broadway Easter Egg Hunt - 2025
DESCRIPTION:Sponsored and coordinated by Broadway Lions Club & Town with sponsorships from businesses/civic clubs\nAll details posted in event on Facebook (Broadway Lions Club & Town of Broadway pages)\nWant to sponsor or volunteer? Call Lion / Councilman Chad Comer at 540-896-6358.\nThe hunt will begin promptly at 10:05 a.m. (please allow time to find parking and walk to your age group). Overflow parking can be found in the field across from the Park on Turner Avenue. We will have eggs hidden in locations based on age groups. Crafts will be available while supplies last at the pavilion. Our friends from the Broadway Emergency Squad will be there. And lastly\, the Easter Bunny will be available for photos! This event is open to children 12 years and younger. Event is rain or shine. Any weather-related updates will be shared on social media.
URL:https://broadwayva.gov/calendar-events/the-great-broadway-easter-egg-hunt-heritage-park-at-10am/
LOCATION:Heritage Park\, 145 Turner Ave.\, Broadway\, VA\, 22815\, United States
CATEGORIES:Children's Events,Community Event
ATTACH;FMTTYPE=image/gif:https://broadwayva.gov/wp-content/uploads/2022/01/easter_egg_hunt.gif
END:VEVENT
BEGIN:VEVENT
DTSTART;VALUE=DATE:20250412
DTEND;VALUE=DATE:20250413
DTSTAMP:20260422T104940
CREATED:20250322T191731Z
LAST-MODIFIED:20250322T202519Z
UID:10000219-1744416000-1744502399@broadwayva.gov
SUMMARY:Arbor Day Celebration - 2025
DESCRIPTION:Coordinated and sponsored by Town of Broadway & businesses/civic clubs\n\n  \n  \n  \n 
URL:https://broadwayva.gov/calendar-events/arbor-day-celebration/
LOCATION:Heritage Park\, 145 Turner Ave.\, Broadway\, VA\, 22815\, United States
CATEGORIES:Children's Events,Community Event
END:VEVENT
BEGIN:VEVENT
DTSTART;TZID=America/New_York:20240928T160000
DTEND;TZID=America/New_York:20240928T200000
DTSTAMP:20260422T104940
CREATED:20240201T170811Z
LAST-MODIFIED:20240902T181003Z
UID:10000045-1727539200-1727553600@broadwayva.gov
SUMMARY:Oktoberfest presented by Broadway Hometown Partnership
DESCRIPTION:Event organize by the Broadway Hometown Partnership.
URL:https://broadwayva.gov/calendar-events/oktoberfest/
LOCATION:Heritage Park\, 145 Turner Ave.\, Broadway\, VA\, 22815\, United States
CATEGORIES:Festival,Live Entertainment
ATTACH;FMTTYPE=image/gif:https://broadwayva.gov/wp-content/uploads/2022/01/brew_fest.gif
END:VEVENT
BEGIN:VEVENT
DTSTART;TZID=America/New_York:20240907T190000
DTEND;TZID=America/New_York:20240907T213000
DTSTAMP:20260422T104940
CREATED:20240201T165639Z
LAST-MODIFIED:20240902T181550Z
UID:10000040-1725735600-1725744600@broadwayva.gov
SUMMARY:Broadway Movie Night featuring Kung Fu Panda 4 presented by Park View Federal Credit Union
DESCRIPTION:Join us for Broadway Movie Night at Heritage Park on Saturday\, September 7\, 2024. The movie will begin at sundown (approximately 7:30PM). The Kung Fu Panda 4 movie will be presented free of charge thanks to Park View Federal Credit Union. Arrive early\, bring your chairs and blankets\, and make yourself at home with refreshments provided by Broadway Lions Club beginning at 6:30PM. We appreciate the support of both of these Broadway partners to offer this family-friendly event free to the community. Any changes due to inclement weather will be shared on Facebook. Event organized by the Town of Broadway.
URL:https://broadwayva.gov/calendar-events/broadway-movie-night-2/
LOCATION:Heritage Park\, 145 Turner Ave.\, Broadway\, VA\, 22815\, United States
CATEGORIES:Children's Events,Community Event
ATTACH;FMTTYPE=image/png:https://broadwayva.gov/wp-content/uploads/2023/01/Untitled-design-21.png
END:VEVENT
BEGIN:VEVENT
DTSTART;TZID=America/New_York:20240706T170000
DTEND;TZID=America/New_York:20240706T210000
DTSTAMP:20260422T104940
CREATED:20240201T170706Z
LAST-MODIFIED:20240902T180054Z
UID:10000044-1720285200-1720299600@broadwayva.gov
SUMMARY:Red\, White & Brew presented by Broadway Hometown Partnership
DESCRIPTION:Event organized by the Broadway Hometown Partnership.
URL:https://broadwayva.gov/calendar-events/red-white-brew/
LOCATION:Heritage Park\, 145 Turner Ave.\, Broadway\, VA\, 22815\, United States
CATEGORIES:Festival,Live Entertainment
END:VEVENT
BEGIN:VEVENT
DTSTART;TZID=America/New_York:20240614T190000
DTEND;TZID=America/New_York:20240614T220000
DTSTAMP:20260422T104940
CREATED:20240201T163003Z
LAST-MODIFIED:20240604T183855Z
UID:10000036-1718391600-1718402400@broadwayva.gov
SUMMARY:Broadway Movie Night
DESCRIPTION:Join us for Broadway Movie Night at Heritage Park on Friday\, June 14\, 2024. The movie will begin at dusk (approximately 8:30PM). Elemental will be presented free of charge thanks to Beards & Broads! Arrive early\, bring your chairs and blankets\, and make yourself at home with refreshments sponsored by the Broadway Lions Club. We appreciate the support of both of these Broadway businesses to offer this family-friendly event free to the community. Organized by the Town of Broadway.
URL:https://broadwayva.gov/calendar-events/broadway-movie-night/
LOCATION:Heritage Park\, 145 Turner Ave.\, Broadway\, VA\, 22815\, United States
CATEGORIES:Children's Events,Community Event
ATTACH;FMTTYPE=image/png:https://broadwayva.gov/wp-content/uploads/2023/01/Untitled-design-21.png
END:VEVENT
BEGIN:VEVENT
DTSTART;TZID=America/New_York:20240601T170000
DTEND;TZID=America/New_York:20240601T203000
DTSTAMP:20260422T104940
CREATED:20240426T201237Z
LAST-MODIFIED:20240426T201237Z
UID:10000138-1717261200-1717273800@broadwayva.gov
SUMMARY:Rotary Rocks Summer Kick Off
DESCRIPTION:The Rotary Club of Broadway-Timberville is hosting “Rotary Rocks Summer Kick Off” at Heritage Park on Saturday\, June 1\, from 5:00 – 8:30 p.m. Cost is $10 per person with children under age 10 free. Lonesome Ryder Band will be performing modern country\, classic rock\, southern rock\, 60’s/70’s/80’s/90’s\, oldies and more! Enjoy live music\, food trucks\, beer and wine.
URL:https://broadwayva.gov/calendar-events/rotary-rocks-summer-kick-off/
LOCATION:Heritage Park\, 145 Turner Ave.\, Broadway\, VA\, 22815\, United States
CATEGORIES:Festival,Fundraising,Live Entertainment
END:VEVENT
BEGIN:VEVENT
DTSTART;TZID=America/New_York:20240427T100000
DTEND;TZID=America/New_York:20240427T110000
DTSTAMP:20260422T104940
CREATED:20240418T191403Z
LAST-MODIFIED:20240418T203551Z
UID:10000135-1714212000-1714215600@broadwayva.gov
SUMMARY:Arbor Day Celebration Presented by Grandle Funeral Home
DESCRIPTION:Join us for an Arbor Day Celebration presented by Grandle Funeral Home. Beginning at 10:00 a.m. on Saturday\, April 27\, Town leadership will lead volunteers in planting trees at one of our community parks. We will also have an interactive and educational activity for families to celebrate Arbor Day. Special thanks to our Gold Sponsor Grandle Funeral Home and Silver Sponsor Kerry Group. Stay tuned for more details and reach out if you’d like to be involved. \nGold Sponsor: \n \nSilver Sponsor:
URL:https://broadwayva.gov/calendar-events/arbor-day-celebration-presented-by-grandle-funeral-home/
LOCATION:Heritage Park\, 145 Turner Ave.\, Broadway\, VA\, 22815\, United States
CATEGORIES:Children's Events,Community Event
END:VEVENT
BEGIN:VEVENT
DTSTART;TZID=America/New_York:20240427T090000
DTEND;TZID=America/New_York:20240427T130000
DTSTAMP:20260422T104940
CREATED:20240201T170445Z
LAST-MODIFIED:20240902T175905Z
UID:10000042-1714208400-1714222800@broadwayva.gov
SUMMARY:Gary E. Post Kids Fishing Day presented by Broadway Hometown Partnership
DESCRIPTION:*Rain date: May 4\, 2024\n 
URL:https://broadwayva.gov/calendar-events/gary-e-post-kids-fishing-day/
LOCATION:Heritage Park\, 145 Turner Ave.\, Broadway\, VA\, 22815\, United States
CATEGORIES:Children's Events,Community Event
ATTACH;FMTTYPE=image/gif:https://broadwayva.gov/wp-content/uploads/2022/01/kids_fishing_day.gif
END:VEVENT
BEGIN:VEVENT
DTSTART;TZID=America/New_York:20240323T100000
DTEND;TZID=America/New_York:20240323T110000
DTSTAMP:20260422T104940
CREATED:20240201T160541Z
LAST-MODIFIED:20240201T175659Z
UID:10000032-1711188000-1711191600@broadwayva.gov
SUMMARY:The Great Broadway Easter Egg Hunt
DESCRIPTION:The Great Broadway Easter Egg Hunt will be held on Saturday\, March 23\, at Heritage Park at 10:00 a.m. The hunt will begin promptly at 10:05 a.m. (allow time to find parking and walk to your age group). Overflow parking can be found in the field across from the Park on Turner Avenue. We will have eggs hidden in locations based on age groups. Crafts will be available while supplies last at the pavilion. Say “Hi!” to our friends from the Broadway Emergency Squad! And lastly\, the Easter Bunny will be available for photos! This event is open to children 12 years and younger. Event is rain or shine. Any weather-related updates will be shared on social media.\nInterested in volunteering? Email corebaugh@broadwayva.gov.
URL:https://broadwayva.gov/calendar-events/the-great-broadway-easter-egg-hunt/
LOCATION:Heritage Park\, 145 Turner Ave.\, Broadway\, VA\, 22815\, United States
CATEGORIES:Children's Events,Community Event
ATTACH;FMTTYPE=image/gif:https://broadwayva.gov/wp-content/uploads/2022/01/easter_egg_hunt.gif
END:VEVENT
END:VCALENDAR