BEGIN:VCALENDAR
VERSION:2.0
PRODID:-//Town of Broadway Virginia - ECPv6.15.20//NONSGML v1.0//EN
CALSCALE:GREGORIAN
METHOD:PUBLISH
X-WR-CALNAME:Town of Broadway Virginia
X-ORIGINAL-URL:https://broadwayva.gov
X-WR-CALDESC:Events for Town of Broadway Virginia
REFRESH-INTERVAL;VALUE=DURATION:PT1H
X-Robots-Tag:noindex
X-PUBLISHED-TTL:PT1H
BEGIN:VTIMEZONE
TZID:America/New_York
BEGIN:DAYLIGHT
TZOFFSETFROM:-0500
TZOFFSETTO:-0400
TZNAME:EDT
DTSTART:20230312T070000
END:DAYLIGHT
BEGIN:STANDARD
TZOFFSETFROM:-0400
TZOFFSETTO:-0500
TZNAME:EST
DTSTART:20231105T060000
END:STANDARD
BEGIN:DAYLIGHT
TZOFFSETFROM:-0500
TZOFFSETTO:-0400
TZNAME:EDT
DTSTART:20240310T070000
END:DAYLIGHT
BEGIN:STANDARD
TZOFFSETFROM:-0400
TZOFFSETTO:-0500
TZNAME:EST
DTSTART:20241103T060000
END:STANDARD
BEGIN:DAYLIGHT
TZOFFSETFROM:-0500
TZOFFSETTO:-0400
TZNAME:EDT
DTSTART:20250309T070000
END:DAYLIGHT
BEGIN:STANDARD
TZOFFSETFROM:-0400
TZOFFSETTO:-0500
TZNAME:EST
DTSTART:20251102T060000
END:STANDARD
BEGIN:DAYLIGHT
TZOFFSETFROM:-0500
TZOFFSETTO:-0400
TZNAME:EDT
DTSTART:20260308T070000
END:DAYLIGHT
BEGIN:STANDARD
TZOFFSETFROM:-0400
TZOFFSETTO:-0500
TZNAME:EST
DTSTART:20261101T060000
END:STANDARD
END:VTIMEZONE
BEGIN:VEVENT
DTSTART;TZID=America/New_York:20250805T170000
DTEND;TZID=America/New_York:20250805T190000
DTSTAMP:20260422T114831
CREATED:20250322T200136Z
LAST-MODIFIED:20250718T195734Z
UID:10000227-1754413200-1754420400@broadwayva.gov
SUMMARY:National Night Out 2025
DESCRIPTION:Coordinated and sponsored by Town of Broadway and Greenmount 4-H Club
URL:https://broadwayva.gov/calendar-events/national-night-out-2025/
LOCATION:Community Park\, 102 S Sunset Drive\, Broadway\, VA\, 22815\, United States
CATEGORIES:Children's Events,Community Event
ATTACH;FMTTYPE=image/png:https://broadwayva.gov/wp-content/uploads/2023/12/NNO.png
END:VEVENT
BEGIN:VEVENT
DTSTART;TZID=America/New_York:20240806T170000
DTEND;TZID=America/New_York:20240806T190000
DTSTAMP:20260422T114831
CREATED:20240201T163601Z
LAST-MODIFIED:20240710T185719Z
UID:10000039-1722963600-1722970800@broadwayva.gov
SUMMARY:National Night Out
DESCRIPTION:Join the Broadway Police Department and the Greenmount 4-H Club to celebrate National Night Out – an annual community-building campaign that promotes police-community partnerships and neighborhood camaraderie. The event will take place at the Community Park\, 102 S. Sunset Drive\, from 5-7PM on Tuesday\, August 6th.
URL:https://broadwayva.gov/calendar-events/national-night-out/
LOCATION:Community Park\, 102 S Sunset Drive\, Broadway\, VA\, 22815\, United States
CATEGORIES:Children's Events,Community Event
ATTACH;FMTTYPE=image/png:https://broadwayva.gov/wp-content/uploads/2023/12/NNO.png
END:VEVENT
END:VCALENDAR