BEGIN:VCALENDAR
VERSION:2.0
PRODID:-//Town of Broadway Virginia - ECPv6.15.20//NONSGML v1.0//EN
CALSCALE:GREGORIAN
METHOD:PUBLISH
X-WR-CALNAME:Town of Broadway Virginia
X-ORIGINAL-URL:https://broadwayva.gov
X-WR-CALDESC:Events for Town of Broadway Virginia
REFRESH-INTERVAL;VALUE=DURATION:PT1H
X-Robots-Tag:noindex
X-PUBLISHED-TTL:PT1H
BEGIN:VTIMEZONE
TZID:America/New_York
BEGIN:DAYLIGHT
TZOFFSETFROM:-0500
TZOFFSETTO:-0400
TZNAME:EDT
DTSTART:20230312T070000
END:DAYLIGHT
BEGIN:STANDARD
TZOFFSETFROM:-0400
TZOFFSETTO:-0500
TZNAME:EST
DTSTART:20231105T060000
END:STANDARD
BEGIN:DAYLIGHT
TZOFFSETFROM:-0500
TZOFFSETTO:-0400
TZNAME:EDT
DTSTART:20240310T070000
END:DAYLIGHT
BEGIN:STANDARD
TZOFFSETFROM:-0400
TZOFFSETTO:-0500
TZNAME:EST
DTSTART:20241103T060000
END:STANDARD
BEGIN:DAYLIGHT
TZOFFSETFROM:-0500
TZOFFSETTO:-0400
TZNAME:EDT
DTSTART:20250309T070000
END:DAYLIGHT
BEGIN:STANDARD
TZOFFSETFROM:-0400
TZOFFSETTO:-0500
TZNAME:EST
DTSTART:20251102T060000
END:STANDARD
END:VTIMEZONE
BEGIN:VEVENT
DTSTART;TZID=America/New_York:20240413T110000
DTEND;TZID=America/New_York:20240413T120000
DTSTAMP:20260423T052220
CREATED:20240405T115846Z
LAST-MODIFIED:20240405T115846Z
UID:10000128-1713006000-1713009600@broadwayva.gov
SUMMARY:Plant Workshop @ Blue Ribbon Nursery & Landscaping - 4/13
DESCRIPTION:Plant a colorful watering can hanging basket with Blue Ribbon Nursery & Landscaping on April 13th! The cost will be $35 and will start at 11:00 am. Message Blue Ribbon Nursery on Facebook to sign up or you can comment on their event post.
URL:https://broadwayva.gov/calendar-events/plant-workshop-blue-ribbon-nursery-landscaping-4-13/
LOCATION:Blue Ribbon Nursery & Landscaping\, 192 S Main Street\, Broadway\, VA\, 22815\, United States
CATEGORIES:Local Businesses
END:VEVENT
BEGIN:VEVENT
DTSTART;TZID=America/New_York:20240413T090000
DTEND;TZID=America/New_York:20240413T090000
DTSTAMP:20260423T052220
CREATED:20240201T202257Z
LAST-MODIFIED:20240201T202257Z
UID:10000064-1712998800-1712998800@broadwayva.gov
SUMMARY:Broadway-Timberville Ruritan Club BBQ Chicken - April
DESCRIPTION:Check out their Facebook page by clicking here for more information.
URL:https://broadwayva.gov/calendar-events/broadway-timberville-ruritan-club-bbq-chicken-april/
LOCATION:VA
CATEGORIES:Chicken BBQ
END:VEVENT
BEGIN:VEVENT
DTSTART;TZID=America/New_York:20240413T073000
DTEND;TZID=America/New_York:20240413T090000
DTSTAMP:20260423T052220
CREATED:20240405T120152Z
LAST-MODIFIED:20240405T120152Z
UID:10000129-1712993400-1712998800@broadwayva.gov
SUMMARY:Community Pancake Breakfast at Sunset Drive Church - 4/13
DESCRIPTION:Community Pancake Breakfast\, Saturday April 13th\, 7:30-9am at Sunset Drive Church. They will have pancakes\, ham\, bacon\, eggs\, sausage gravy\, juice and coffee. A free will offering will be collected to support the community outreach at Sunset Drive UMC. They strive to serve the community in many ways including: feeding programs with the schools\, helping families in need\, support cub scouts\, WRE\, and many others as needs arise. Bring your friends and neighbors out to enjoy a good breakfast and help them support our local community.
URL:https://broadwayva.gov/calendar-events/community-pancake-breakfast-at-sunset-drive-church-4-13/
LOCATION:Sunset Drive Church\, 127 S Sunset Drive\, Broadway\, VA\, 22815\, United States
CATEGORIES:Fundraising
END:VEVENT
BEGIN:VEVENT
DTSTART;TZID=America/New_York:20240412T180000
DTEND;TZID=America/New_York:20240412T200000
DTSTAMP:20260423T052220
CREATED:20240412T114502Z
LAST-MODIFIED:20240412T114502Z
UID:10000132-1712944800-1712952000@broadwayva.gov
SUMMARY:Live Music @ Fat Boyz BBQ & More - 4/12
DESCRIPTION:Live music featuring Kevin Quesenberry from 6:00-8:00PM. Click here to follow Fat Boyz BBQ & More Facebook page for more details. \n  \n 
URL:https://broadwayva.gov/calendar-events/live-music-fat-boyz-bbq-more-4-12/
LOCATION:Fat Boyz BBQ and More\, 466 South Main Street\, Broadway\, VA\, 22815\, United States
CATEGORIES:Live Entertainment,Local Businesses
END:VEVENT
BEGIN:VEVENT
DTSTART;TZID=America/New_York:20240406T180000
DTEND;TZID=America/New_York:20240406T210000
DTSTAMP:20260423T052220
CREATED:20240405T113439Z
LAST-MODIFIED:20240405T114429Z
UID:10000126-1712426400-1712437200@broadwayva.gov
SUMMARY:Live Music with Justus MacKay at Beards & Broads - 4/6
DESCRIPTION:Enjoy live music with Justus MacKay from 6-9PM. Check out their new lighting in their performance space!
URL:https://broadwayva.gov/calendar-events/live-music-with-justin-mackay-at-beards-broads/
LOCATION:Beards & Broads Broadway\, 175 North Central Street\, Broadway\, VA\, 22815\, United States
CATEGORIES:Live Entertainment,Local Businesses
END:VEVENT
BEGIN:VEVENT
DTSTART;TZID=America/New_York:20240406T120000
DTEND;TZID=America/New_York:20240406T130000
DTSTAMP:20260423T052220
CREATED:20240405T115459Z
LAST-MODIFIED:20240405T115459Z
UID:10000127-1712404800-1712408400@broadwayva.gov
SUMMARY:Plant Workshop @ Blue Ribbon Nursery & Landscaping - 4/6
DESCRIPTION:Propagation 101 workshop. Learn how to propagate plants with Blue Ribbon Nursery & Landscaping! The cost will be $25 and will start at 12PM. Message Blue Ribbon Nursery on Facebook to sign up or you can comment on their event post.
URL:https://broadwayva.gov/calendar-events/plant-workshop-blue-ribbon-nursery-landscaping-4-6-2/
LOCATION:Blue Ribbon Nursery & Landscaping\, 192 S Main Street\, Broadway\, VA\, 22815\, United States
CATEGORIES:Local Businesses
END:VEVENT
BEGIN:VEVENT
DTSTART;TZID=America/New_York:20240406T110000
DTEND;TZID=America/New_York:20240406T133000
DTSTAMP:20260423T052220
CREATED:20240201T171801Z
LAST-MODIFIED:20240202T180453Z
UID:10000050-1712401200-1712410200@broadwayva.gov
SUMMARY:Wingin’ It Woolies and Weavings Needle Felting Class - 3-D Lamb
DESCRIPTION:Wingin’ It Woolies and Weavings classes are a great way to learn the art of needle felting. The class is from 11:00 a.m. to 1:30 p.m. at J&B’s Country Store. All materials are provided to complete a project. A café lunch is included with the $40 fee. Please call J&B’s Country Store to register: 540.896.2880. Visit Wingin’ It Woolies and Weavings Facebook page for class examples.
URL:https://broadwayva.gov/calendar-events/wingin-it-woolies-and-weavings-3-d-lamb/
LOCATION:J&B’s Country Store\, 163 N Main St.\, Broadway\, VA\, 22815\, United States
CATEGORIES:Local Businesses
END:VEVENT
BEGIN:VEVENT
DTSTART;TZID=America/New_York:20240406T110000
DTEND;TZID=America/New_York:20240406T120000
DTSTAMP:20260423T052220
CREATED:20240405T112750Z
LAST-MODIFIED:20240405T112750Z
UID:10000125-1712401200-1712404800@broadwayva.gov
SUMMARY:Plant Workshop @ Blue Ribbon Nursery & Landscaping - 4/6
DESCRIPTION:Plant your own Strawberry jar with either pansies\, Hens and Chics or strawberry plants! The cost of this class will be $40.00 and will be held on April 6th at 11:00am. Message Blue Ribbon Nursery on Facebook to sign up or you can comment on their event post.
URL:https://broadwayva.gov/calendar-events/plant-workshop-blue-ribbon-nursery-landscaping-4-6/
LOCATION:Blue Ribbon Nursery & Landscaping\, 192 S Main Street\, Broadway\, VA\, 22815\, United States
CATEGORIES:Local Businesses
END:VEVENT
BEGIN:VEVENT
DTSTART;TZID=America/New_York:20240406T090000
DTEND;TZID=America/New_York:20240406T090000
DTSTAMP:20260423T052220
CREATED:20240201T155841Z
LAST-MODIFIED:20240201T160940Z
UID:10000034-1712394000-1712394000@broadwayva.gov
SUMMARY:Broadway Lions Club BBQ Chicken Fundraiser
DESCRIPTION:The Broadway Lions Club will hold a chicken bbq fundraiser. Follow the Broadway Lions Club on Facebook by clicking here for updates. \nPick up at J Frank Hillard Middle School. Pick up time approximately 9AM. $5 per half.
URL:https://broadwayva.gov/calendar-events/broadway-lions-club-bbq-chicken-fundraiser/
LOCATION:VA
CATEGORIES:Chicken BBQ,Fundraising
END:VEVENT
BEGIN:VEVENT
DTSTART;TZID=America/New_York:20240405T180000
DTEND;TZID=America/New_York:20240405T200000
DTSTAMP:20260423T052220
CREATED:20240405T131503Z
LAST-MODIFIED:20240405T133811Z
UID:10000130-1712340000-1712347200@broadwayva.gov
SUMMARY:Live Music @ Fat Boyz BBQ & More - 4/5
DESCRIPTION:Live music featuring Psalm 150 Music from 6:00-8:00PM. Click here to follow Fat Boyz BBQ & More Facebook page for more details. \n 
URL:https://broadwayva.gov/calendar-events/live-music-fat-boyz-bbq-more-4-5/
LOCATION:Fat Boyz BBQ and More\, 466 South Main Street\, Broadway\, VA\, 22815\, United States
CATEGORIES:Live Entertainment,Local Businesses
END:VEVENT
BEGIN:VEVENT
DTSTART;TZID=America/New_York:20240330T110000
DTEND;TZID=America/New_York:20240330T120000
DTSTAMP:20260423T052220
CREATED:20240329T114623Z
LAST-MODIFIED:20240329T114623Z
UID:10000124-1711796400-1711800000@broadwayva.gov
SUMMARY:Plant Workshop @ Blue Ribbon Nursery & Landscaping - 3/30
DESCRIPTION:Let’s get creative with succulents during Blue Ribbon Nursery’s Succulents Container Workshop on March 30th at 11:00am. The cost of this class will be $35! Message Blue Ribbon Nursery on Facebook to sign up or you can comment on their event post.
URL:https://broadwayva.gov/calendar-events/plant-workshop-blue-ribbon-nursery-landscaping-3-30/
LOCATION:Blue Ribbon Nursery & Landscaping\, 192 S Main Street\, Broadway\, VA\, 22815\, United States
CATEGORIES:Local Businesses
END:VEVENT
BEGIN:VEVENT
DTSTART;TZID=America/New_York:20240329T180000
DTEND;TZID=America/New_York:20240329T200000
DTSTAMP:20260423T052220
CREATED:20240329T114220Z
LAST-MODIFIED:20240329T114220Z
UID:10000123-1711735200-1711742400@broadwayva.gov
SUMMARY:Live Music @ Fat Boyz BBQ & More - 3/29
DESCRIPTION:Live music featuring Ryan Bennett from 6:00-9:00PM. Click here to follow Fat Boyz BBQ & More Facebook page for more details.
URL:https://broadwayva.gov/calendar-events/live-music-fat-boyz-bbq-more-3-29/
LOCATION:Fat Boyz BBQ and More\, 466 South Main Street\, Broadway\, VA\, 22815\, United States
CATEGORIES:Live Entertainment,Local Businesses
END:VEVENT
BEGIN:VEVENT
DTSTART;TZID=America/New_York:20240323T110000
DTEND;TZID=America/New_York:20240323T133000
DTSTAMP:20260423T052220
CREATED:20240201T171644Z
LAST-MODIFIED:20240202T180500Z
UID:10000049-1711191600-1711200600@broadwayva.gov
SUMMARY:Wingin’ It Woolies and Weavings Needle Felting Class - Easter Eggs
DESCRIPTION:Wingin’ It Woolies and Weavings classes are a great way to learn the art of needle felting. The class is from 11:00 a.m. to 1:30 p.m. at J&B’s Country Store. All materials are provided to complete a project. A café lunch is included with the $40 fee. Please call J&B’s Country Store to register: 540.896.2880. Visit Wingin’ It Woolies and Weavings Facebook page for class examples.
URL:https://broadwayva.gov/calendar-events/wingin-it-woolies-and-weavings-easter-eggs/
LOCATION:J&B’s Country Store\, 163 N Main St.\, Broadway\, VA\, 22815\, United States
CATEGORIES:Local Businesses
END:VEVENT
BEGIN:VEVENT
DTSTART;TZID=America/New_York:20240323T110000
DTEND;TZID=America/New_York:20240323T120000
DTSTAMP:20260423T052220
CREATED:20240321T134809Z
LAST-MODIFIED:20240321T134809Z
UID:10000122-1711191600-1711195200@broadwayva.gov
SUMMARY:Plant Workshop @ Blue Ribbon Nursery & Landscaping - 3/23
DESCRIPTION:Come make a Resurrection Garden Workshop with Blue Ribbon Nursery! March 23 at 11:00am! The cost of this class will be $35.00. Message Blue Ribbon Nursery on Facebook to sign up or you can comment on their event post.
URL:https://broadwayva.gov/calendar-events/plant-workshop-blue-ribbon-nursery-landscaping-3-23/
LOCATION:Blue Ribbon Nursery & Landscaping\, 192 S Main Street\, Broadway\, VA\, 22815\, United States
CATEGORIES:Local Businesses
END:VEVENT
BEGIN:VEVENT
DTSTART;TZID=America/New_York:20240323T110000
DTEND;TZID=America/New_York:20240323T120000
DTSTAMP:20260423T052220
CREATED:20240315T104641Z
LAST-MODIFIED:20240315T104641Z
UID:10000121-1711191600-1711195200@broadwayva.gov
SUMMARY:Your Legacy\, Your Story - Village Library Event
DESCRIPTION:Your Legacy\, Your Story – A Village Library Event held on Saturday\, March 23\, at 11:00 a.m. at the Village Library\, 175 N. Main St.\, Broadway\, VA 22815. \nEveryone has a story\, and our stories are the legacy we leave behind. These stories connect generations\, share legacies\, and offer new perspectives on a life well-lived. We will explore why sharing our life stories is important\, ways to preserve your legacy\, and tips to help you get started no matter where you are in the process. This program is led by Teresa Townsend\, a personal historian with Tapestry\, LLC.
URL:https://broadwayva.gov/calendar-events/your-legacy-your-story-village-library-event/
LOCATION:Village Library\, 175 N. Main Street\, Broadway\, VA\, 22815\, United States
CATEGORIES:Community Event,Local Businesses
END:VEVENT
BEGIN:VEVENT
DTSTART;TZID=America/New_York:20240323T100000
DTEND;TZID=America/New_York:20240323T110000
DTSTAMP:20260423T052220
CREATED:20240201T160541Z
LAST-MODIFIED:20240201T175659Z
UID:10000032-1711188000-1711191600@broadwayva.gov
SUMMARY:The Great Broadway Easter Egg Hunt
DESCRIPTION:The Great Broadway Easter Egg Hunt will be held on Saturday\, March 23\, at Heritage Park at 10:00 a.m. The hunt will begin promptly at 10:05 a.m. (allow time to find parking and walk to your age group). Overflow parking can be found in the field across from the Park on Turner Avenue. We will have eggs hidden in locations based on age groups. Crafts will be available while supplies last at the pavilion. Say “Hi!” to our friends from the Broadway Emergency Squad! And lastly\, the Easter Bunny will be available for photos! This event is open to children 12 years and younger. Event is rain or shine. Any weather-related updates will be shared on social media.\nInterested in volunteering? Email corebaugh@broadwayva.gov.
URL:https://broadwayva.gov/calendar-events/the-great-broadway-easter-egg-hunt/
LOCATION:Heritage Park\, 145 Turner Ave.\, Broadway\, VA\, 22815\, United States
CATEGORIES:Children's Events,Community Event
ATTACH;FMTTYPE=image/gif:https://broadwayva.gov/wp-content/uploads/2022/01/easter_egg_hunt.gif
END:VEVENT
BEGIN:VEVENT
DTSTART;TZID=America/New_York:20240323T090000
DTEND;TZID=America/New_York:20240323T090000
DTSTAMP:20260423T052220
CREATED:20240201T203640Z
LAST-MODIFIED:20240201T203640Z
UID:10000066-1711184400-1711184400@broadwayva.gov
SUMMARY:Broadway Bruins Chicken BBQ Fundraiser
DESCRIPTION:Rockingham County Broadway Bruins Baseball team will be having a BBQ chicken! Come support this great group of boys and their upcoming baseball season. Pick Up Locations will be at Timberville Food Lion and Mt. Jackson Food Lion! **Times may vary\, they will post on their Facebook page when the chicken is ready! You can view their Facebook page by clicking here.
URL:https://broadwayva.gov/calendar-events/broadway-bruins-chicken-bbq-fundraiser/
LOCATION:VA
CATEGORIES:Chicken BBQ
END:VEVENT
BEGIN:VEVENT
DTSTART;TZID=America/New_York:20240323T080000
DTEND;TZID=America/New_York:20240323T140000
DTSTAMP:20260423T052220
CREATED:20240202T190420Z
LAST-MODIFIED:20240202T190420Z
UID:10000100-1711180800-1711202400@broadwayva.gov
SUMMARY:Broadway Emergency Squad Spring Fling
DESCRIPTION:
URL:https://broadwayva.gov/calendar-events/broadway-emergency-squad-spring-fling/
LOCATION:Broadway Emergency Squad\, 525 South Main Street\, Broadway\, VA\, 22815\, United States
CATEGORIES:Community Event
END:VEVENT
BEGIN:VEVENT
DTSTART;TZID=America/New_York:20240323T080000
DTEND;TZID=America/New_York:20240323T120000
DTSTAMP:20260423T052220
CREATED:20240303T232218Z
LAST-MODIFIED:20240303T233623Z
UID:10000117-1711180800-1711195200@broadwayva.gov
SUMMARY:Broadway Easter & Spring Market
DESCRIPTION:
URL:https://broadwayva.gov/calendar-events/broadway-easter-spring-market/
LOCATION:Community Market at Veterans Memorial Wall\, 161 South Main Street\, Broadway\, VA\, 22815\, United States
CATEGORIES:Community Event,Farmers Market
ATTACH;FMTTYPE=image/png:https://broadwayva.gov/wp-content/uploads/2024/02/website-calendar-featured-image-1.png
END:VEVENT
BEGIN:VEVENT
DTSTART;TZID=America/New_York:20240316T110000
DTEND;TZID=America/New_York:20240316T120000
DTSTAMP:20260423T052220
CREATED:20240314T172906Z
LAST-MODIFIED:20240314T172906Z
UID:10000120-1710586800-1710590400@broadwayva.gov
SUMMARY:Plant Workshop @ Blue Ribbon Nursery & Landscaping - 3/16
DESCRIPTION:Come make a Cactus Garden with Blue Ribbon Nursery! March 16th at 11:00am! The cost of this class will be $30.00 and will include a container\, 4 plants and soil. Message Blue Ribbon Nursery on Facebook to sign up or you can comment on their event post.
URL:https://broadwayva.gov/calendar-events/plant-workshop-blue-ribbon-nursery-landscaping-3-16/
LOCATION:Blue Ribbon Nursery & Landscaping\, 192 S Main Street\, Broadway\, VA\, 22815\, United States
CATEGORIES:Local Businesses
END:VEVENT
BEGIN:VEVENT
DTSTART;TZID=America/New_York:20240316T090000
DTEND;TZID=America/New_York:20240316T170000
DTSTAMP:20260423T052220
CREATED:20240201T154029Z
LAST-MODIFIED:20240201T173114Z
UID:10000021-1710579600-1710608400@broadwayva.gov
SUMMARY:Spring Open House @ J&B's Country Store
DESCRIPTION:Join the vendors at J&B’s Country Store for a Spring Open House from 9AM – 5PM. Learn more on their Facebook page by clicking here.
URL:https://broadwayva.gov/calendar-events/spring-open-house-jbs-country-store/
LOCATION:J&B’s Country Store\, 163 N Main St.\, Broadway\, VA\, 22815\, United States
CATEGORIES:Local Businesses
END:VEVENT
BEGIN:VEVENT
DTSTART;TZID=America/New_York:20240316T090000
DTEND;TZID=America/New_York:20240316T090000
DTSTAMP:20260423T052220
CREATED:20240201T200127Z
LAST-MODIFIED:20240201T200151Z
UID:10000063-1710579600-1710579600@broadwayva.gov
SUMMARY:Broadway-Timberville Ruritan Club BBQ Chicken
DESCRIPTION:Check out their Facebook page by clicking here for more information.
URL:https://broadwayva.gov/calendar-events/broadway-timberville-ruritan-club-bbq-chicken/
LOCATION:VA
CATEGORIES:Chicken BBQ
END:VEVENT
BEGIN:VEVENT
DTSTART;TZID=America/New_York:20240313T100000
DTEND;TZID=America/New_York:20240313T230000
DTSTAMP:20260423T052220
CREATED:20240229T125607Z
LAST-MODIFIED:20240229T125958Z
UID:10000113-1710324000-1710370800@broadwayva.gov
SUMMARY:Domino's Dough-Nation Day - Gunner Thomas Fundraiser
DESCRIPTION:
URL:https://broadwayva.gov/calendar-events/dominos-dough-nation-day-gunner-thomas-fundraiser/
LOCATION:Domino’s Pizza\, 105 Timber Way\, Broadway\, VA\, 22815\, United States
CATEGORIES:Fundraising,Local Businesses
END:VEVENT
BEGIN:VEVENT
DTSTART;TZID=America/New_York:20240310T150000
DTEND;TZID=America/New_York:20240310T170000
DTSTAMP:20260423T052220
CREATED:20240205T134140Z
LAST-MODIFIED:20240205T134536Z
UID:10000104-1710082800-1710090000@broadwayva.gov
SUMMARY:JFHMS Rock Of Ages Youth Edition Musical - 3/10
DESCRIPTION:J. Frank Hillyard Middle School \nMarch 8 & 9\, 2024 at 7:00 pm \nMarch 10\, 2024 at 3:00 pm
URL:https://broadwayva.gov/calendar-events/jfhms-rock-of-ages-youth-edition-musical-3-10/
LOCATION:J. Frank Hillyard Middle School\, 226 Hawks Hill Drive\, Broadway\, VA\, 22815\, United States
CATEGORIES:Children's Events,Live Entertainment,Theater
END:VEVENT
BEGIN:VEVENT
DTSTART;TZID=America/New_York:20240309T190000
DTEND;TZID=America/New_York:20240309T210000
DTSTAMP:20260423T052220
CREATED:20240205T134108Z
LAST-MODIFIED:20240205T134629Z
UID:10000103-1710010800-1710018000@broadwayva.gov
SUMMARY:JFHMS Rock Of Ages Youth Edition Musical - 3/9
DESCRIPTION:J. Frank Hillyard Middle School \nMarch 8 & 9\, 2024 at 7:00 pm \nMarch 10\, 2024 at 3:00 pm
URL:https://broadwayva.gov/calendar-events/jfhms-rock-of-ages-youth-edition-musical-3-9/
LOCATION:J. Frank Hillyard Middle School\, 226 Hawks Hill Drive\, Broadway\, VA\, 22815\, United States
CATEGORIES:Children's Events,Live Entertainment,Theater
END:VEVENT
BEGIN:VEVENT
DTSTART;TZID=America/New_York:20240309T110000
DTEND;TZID=America/New_York:20240309T133000
DTSTAMP:20260423T052220
CREATED:20240119T021413Z
LAST-MODIFIED:20240202T180506Z
UID:10000013-1709982000-1709991000@broadwayva.gov
SUMMARY:Wingin' It Woolies and Weavings Needle Felting Class - Gnome/Leprechaun
DESCRIPTION:Wingin’ It Woolies and Weavings classes are a great way to learn the art of needle felting. The class is from 11:00 a.m. to 1:30 p.m. at J&B’s Country Store. All materials are provided to complete a project. A café lunch is included with the $40 fee. Please call J&B’s Country Store to register: 540.896.2880. Visit Wingin’ It Woolies and Weavings Facebook page for class examples.
URL:https://broadwayva.gov/calendar-events/wingin-it-woolies-and-weavings-gnome-leprechaun/
LOCATION:J&B’s Country Store\, 163 N Main St.\, Broadway\, VA\, 22815\, United States
CATEGORIES:Local Businesses
END:VEVENT
BEGIN:VEVENT
DTSTART;TZID=America/New_York:20240309T110000
DTEND;TZID=America/New_York:20240309T120000
DTSTAMP:20260423T052220
CREATED:20240303T231308Z
LAST-MODIFIED:20240303T231308Z
UID:10000114-1709982000-1709985600@broadwayva.gov
SUMMARY:Plant Workshop @ Blue Ribbon Nursery & Landscaping - 3/9
DESCRIPTION:Propagation 101 workshop. Learn how to propagate plants with Blue Ribbon Nursery & Landscaping! The cost will be $25 and will include the propagation station plus 5 cuttings from our plants. Message Blue Ribbon Nursery on Facebook to sign up or you can comment on their event post.
URL:https://broadwayva.gov/calendar-events/plant-workshop-blue-ribbon-nursery-landscaping-3-9/
LOCATION:Blue Ribbon Nursery & Landscaping\, 192 S Main Street\, Broadway\, VA\, 22815\, United States
CATEGORIES:Local Businesses
END:VEVENT
BEGIN:VEVENT
DTSTART;TZID=America/New_York:20240308T190000
DTEND;TZID=America/New_York:20240308T210000
DTSTAMP:20260423T052220
CREATED:20240205T132525Z
LAST-MODIFIED:20240205T134716Z
UID:10000102-1709924400-1709931600@broadwayva.gov
SUMMARY:JFHMS Rock Of Ages Youth Edition Musical - 3/8
DESCRIPTION:J. Frank Hillyard Middle School \nMarch 8 & 9\, 2024 at 7:00 pm \nMarch 10\, 2024 at 3:00 pm
URL:https://broadwayva.gov/calendar-events/jfhms-rock-of-ages-youth-edition-musical-3-8/
LOCATION:J. Frank Hillyard Middle School\, 226 Hawks Hill Drive\, Broadway\, VA\, 22815\, United States
CATEGORIES:Children's Events,Live Entertainment,Theater
END:VEVENT
BEGIN:VEVENT
DTSTART;TZID=America/New_York:20240308T180000
DTEND;TZID=America/New_York:20240308T210000
DTSTAMP:20260423T052220
CREATED:20240306T123035Z
LAST-MODIFIED:20240306T123035Z
UID:10000118-1709920800-1709931600@broadwayva.gov
SUMMARY:Live Music @ Fat Boyz BBQ & More - 3/8
DESCRIPTION:Live music featuring Zac Townsend and Chris Huntt Jr. from 6:00-9:00PM. Click here to follow Fat Boyz BBQ & More Facebook page for more details.
URL:https://broadwayva.gov/calendar-events/live-music-fat-boyz-bbq-more-3-8/
LOCATION:Fat Boyz BBQ and More\, 466 South Main Street\, Broadway\, VA\, 22815\, United States
CATEGORIES:Live Entertainment,Local Businesses
END:VEVENT
BEGIN:VEVENT
DTSTART;TZID=America/New_York:20240302T170000
DTEND;TZID=America/New_York:20240302T230000
DTSTAMP:20260423T052220
CREATED:20240119T021050Z
LAST-MODIFIED:20240201T145343Z
UID:10000012-1709398800-1709420400@broadwayva.gov
SUMMARY:Rotary Club of Broadway-Timberville's Night at the Races Fundraiser
DESCRIPTION:Join the Rotary Club of Broadway-Timberville’s Night at the Races 2024!\n\nProceeds from this event will benefit local projects and organizations that partner with Rotary throughout the year. Last year’s event raised almost $8\,000 for the Plains Elementary School playground project.\n\nTickets are $50 per person which includes dinner\, unlimited drinks (including beer and wine)\, “funny money” for “gambling” and entry into a $1\,000 drawing.\nAll event attendees must be at least 21 years of age.\nThe event will consist of “gambling” on pre-recorded horse races\, Casino games (Poker\, Black Jack\, etc.)\, and other “gambling” opportunities.\nAt the end of the evening\, you may use your funny money to buy chances for a $250 drawing.\nThe Nuts & Bolts:\nPoker chips can be purchased with cash or funny money\, but cannot be converted back into cash\nAdditional funny money can be purchased dollar for dollar\nThe cost of each horse race bet is $3 and can ONLY be placed with funny money\nSilent auction items must be paid for with cash or check\nFunny money CANNOT be redeemed for cash at the end of the night\nPull tabs and 50/50 raffles may only be purchased with cash and winners will be paid in cash\n\nYou must be present or your ticket must be represented by someone to win the $1\,000 or $250 drawing.
URL:https://broadwayva.gov/calendar-events/night-at-the-races-fundraiser/
LOCATION:Plains District Community Center\, 233 McCauley Ave\,\, Timberville\, VA\, 22853\, United States
CATEGORIES:Fundraising
END:VEVENT
END:VCALENDAR