BEGIN:VCALENDAR
VERSION:2.0
PRODID:-//Town of Broadway Virginia - ECPv6.15.20//NONSGML v1.0//EN
CALSCALE:GREGORIAN
METHOD:PUBLISH
X-WR-CALNAME:Town of Broadway Virginia
X-ORIGINAL-URL:https://broadwayva.gov
X-WR-CALDESC:Events for Town of Broadway Virginia
REFRESH-INTERVAL;VALUE=DURATION:PT1H
X-Robots-Tag:noindex
X-PUBLISHED-TTL:PT1H
BEGIN:VTIMEZONE
TZID:America/New_York
BEGIN:DAYLIGHT
TZOFFSETFROM:-0500
TZOFFSETTO:-0400
TZNAME:EDT
DTSTART:20230312T070000
END:DAYLIGHT
BEGIN:STANDARD
TZOFFSETFROM:-0400
TZOFFSETTO:-0500
TZNAME:EST
DTSTART:20231105T060000
END:STANDARD
BEGIN:DAYLIGHT
TZOFFSETFROM:-0500
TZOFFSETTO:-0400
TZNAME:EDT
DTSTART:20240310T070000
END:DAYLIGHT
BEGIN:STANDARD
TZOFFSETFROM:-0400
TZOFFSETTO:-0500
TZNAME:EST
DTSTART:20241103T060000
END:STANDARD
BEGIN:DAYLIGHT
TZOFFSETFROM:-0500
TZOFFSETTO:-0400
TZNAME:EDT
DTSTART:20250309T070000
END:DAYLIGHT
BEGIN:STANDARD
TZOFFSETFROM:-0400
TZOFFSETTO:-0500
TZNAME:EST
DTSTART:20251102T060000
END:STANDARD
END:VTIMEZONE
BEGIN:VEVENT
DTSTART;TZID=America/New_York:20240518T080000
DTEND;TZID=America/New_York:20240518T120000
DTSTAMP:20260423T041713
CREATED:20240531T162858Z
LAST-MODIFIED:20240531T162858Z
UID:10000143-1716019200-1716033600@broadwayva.gov
SUMMARY:Broadway Community & Farmers Market
DESCRIPTION:The Broadway Community Market’s goal is to promote small businesses and create a space where the community can gather and nourish relationships. We welcome homemade\, handmade\, local produce\, artisans\, crafters\, and direct sales vendors. Buy Fresh Buy Local is important to us and we have many vendors promoting local foods and agricultural products. We also feature special pop-up markets\, entertainment\, health and wellness activities\, demonstrations\, and more! \nVisit the Community Market vendors every Saturday during season at the Veteran’s Memorial Wall (161 S. Main Street\, Broadway\, VA 22815). \n\n2024 Market Season: May 4 – September 7\, 8:00 a.m. – 12:00 noon\n2024 Autumn Festival & Antique Car Show: September 14\, 9:00 a.m. – 3:00 p.m.\n2024 Fall Market Season: September 21 – October 12\, 9:00 a.m. – 1:00 p.m.\n\nBe sure to follow our Facebook and Instagram accounts to stay connected to vendors throughout the year.
URL:https://broadwayva.gov/calendar-events/broadway-community-farmers-market-2/
LOCATION:Community Market at Veterans Memorial Wall\, 161 South Main Street\, Broadway\, VA\, 22815\, United States
CATEGORIES:Community Event,Farmers Market,Local Businesses
ATTACH;FMTTYPE=image/png:https://broadwayva.gov/wp-content/uploads/2024/05/market.png
END:VEVENT
BEGIN:VEVENT
DTSTART;TZID=America/New_York:20240511T180000
DTEND;TZID=America/New_York:20240511T210000
DTSTAMP:20260423T041713
CREATED:20240510T132855Z
LAST-MODIFIED:20240510T132855Z
UID:10000141-1715450400-1715461200@broadwayva.gov
SUMMARY:Live Music with David Wayne at Beards & Broads - 5/11
DESCRIPTION:Live Music with David Wayne at Beards & Broads\n\n\nSaturday\, May 11\, 2024\n6PM – 9PM\n\n\n\n“I’m David Wayne from the Stuart’s Draft area. I grew up in Staunton and went into law enforcement at an early age. I’ve always had interest in music and started guitar in my early teens. After retirement from law enforcement I began pursuing music at a higher level. I have heavy influence from Waylon Jennings to Toby Keith. I tend to focus on country from the 80s to 90s with some current releases. “
URL:https://broadwayva.gov/calendar-events/live-music-with-david-wayne-at-beards-broads-5-11/
LOCATION:Beards & Broads Broadway\, 175 North Central Street\, Broadway\, VA\, 22815\, United States
CATEGORIES:Live Entertainment,Local Businesses
END:VEVENT
BEGIN:VEVENT
DTSTART;TZID=America/New_York:20240511T080000
DTEND;TZID=America/New_York:20240511T120000
DTSTAMP:20260423T041713
CREATED:20240510T133746Z
LAST-MODIFIED:20240510T133746Z
UID:10000142-1715414400-1715428800@broadwayva.gov
SUMMARY:Broadway Community & Farmers Market
DESCRIPTION:The Broadway Community Market’s goal is to promote small businesses and create a space where the community can gather and nourish relationships. We welcome homemade\, handmade\, local produce\, artisans\, crafters\, and direct sales vendors. Buy Fresh Buy Local is important to us and we have many vendors promoting local foods and agricultural products. We also feature special pop-up markets\, entertainment\, health and wellness activities\, demonstrations\, and more! \nVisit the Community Market vendors every Saturday during season at the Veteran’s Memorial Wall (161 S. Main Street\, Broadway\, VA 22815). \n\n2024 Market Season: May 4 – September 7\, 8:00 a.m. – 12:00 noon\n2024 Autumn Festival & Antique Car Show: September 14\, 9:00 a.m. – 3:00 p.m.\n2024 Fall Market Season: September 21 – October 12\, 9:00 a.m. – 1:00 p.m.\n\nBe sure to follow our Facebook and Instagram accounts to stay connected to vendors throughout the year.
URL:https://broadwayva.gov/calendar-events/broadway-community-farmers-market/
LOCATION:Community Market at Veterans Memorial Wall\, 161 South Main Street\, Broadway\, VA\, 22815\, United States
CATEGORIES:Community Event,Farmers Market,Local Businesses
ATTACH;FMTTYPE=image/png:https://broadwayva.gov/wp-content/uploads/2024/05/market.png
END:VEVENT
BEGIN:VEVENT
DTSTART;TZID=America/New_York:20240511T073000
DTEND;TZID=America/New_York:20240511T090000
DTSTAMP:20260423T041713
CREATED:20240510T132234Z
LAST-MODIFIED:20240510T132234Z
UID:10000140-1715412600-1715418000@broadwayva.gov
SUMMARY:Community Pancake Breakfast at Sunset Drive Church - 5/11
DESCRIPTION:Community Pancake Breakfast\, Saturday\, May 11\, 7:30-9am at Sunset Drive Church. They will have pancakes\, ham\, bacon\, eggs\, sausage gravy\, juice and coffee. They will have pancakes\, bacon\, ham\, scrambled eggs\, sausage gravy\, juice and coffee! A free will offering will benefit Firefighter Mongold who was injured in the Bergton Fires. Come hungry and bring your friends!
URL:https://broadwayva.gov/calendar-events/community-pancake-breakfast-at-sunset-drive-church-5-11/
LOCATION:Sunset Drive Church\, 127 S Sunset Drive\, Broadway\, VA\, 22815\, United States
CATEGORIES:Fundraising
END:VEVENT
BEGIN:VEVENT
DTSTART;TZID=America/New_York:20240510T160000
DTEND;TZID=America/New_York:20240510T200000
DTSTAMP:20260423T041713
CREATED:20240510T131623Z
LAST-MODIFIED:20240510T131704Z
UID:10000139-1715356800-1715371200@broadwayva.gov
SUMMARY:Ladies Night - Mothers Day Event at The Creekside Boutique
DESCRIPTION:Join The Creekside Boutique for a Ladies night out! Stop in for a snack\, a special pop up of Old Hill Cider and Creekside specials for Mothers Day weekend! Click here for event details.
URL:https://broadwayva.gov/calendar-events/ladies-night-mothers-day-event-at-the-creekside-boutique/
LOCATION:The Creekside Boutique\, 411 S. Main Street\, Broadway\, VA\, 22815\, United States
CATEGORIES:Local Businesses
END:VEVENT
BEGIN:VEVENT
DTSTART;TZID=America/New_York:20240504T110000
DTEND;TZID=America/New_York:20240504T133000
DTSTAMP:20260423T041713
CREATED:20240201T171949Z
LAST-MODIFIED:20240202T180440Z
UID:10000052-1714820400-1714829400@broadwayva.gov
SUMMARY:Wingin’ It Woolies and Weavings Needle Felting Class - Chipmunk in Cup
DESCRIPTION:Wingin’ It Woolies and Weavings classes are a great way to learn the art of needle felting. The class is from 11:00 a.m. to 1:30 p.m. at J&B’s Country Store. All materials are provided to complete a project. A café lunch is included with the $40 fee. Please call J&B’s Country Store to register: 540.896.2880. Visit Wingin’ It Woolies and Weavings Facebook page for class examples.
URL:https://broadwayva.gov/calendar-events/wingin-it-woolies-and-weavings-chipmunk-in-cup/
LOCATION:J&B’s Country Store\, 163 N Main St.\, Broadway\, VA\, 22815\, United States
CATEGORIES:Local Businesses
END:VEVENT
BEGIN:VEVENT
DTSTART;TZID=America/New_York:20240504T090000
DTEND;TZID=America/New_York:20240504T090000
DTSTAMP:20260423T041713
CREATED:20240201T160039Z
LAST-MODIFIED:20240201T161041Z
UID:10000035-1714813200-1714813200@broadwayva.gov
SUMMARY:Broadway Lions Club BBQ Chicken Fundraiser
DESCRIPTION:The Broadway Lions Club will hold a chicken bbq fundraiser. Follow the Broadway Lions Club on Facebook by clicking here for updates. \nPick up at J Frank Hillard Middle School. Pick up time approximately 9AM. $5 per half.
URL:https://broadwayva.gov/calendar-events/broadway-lions-club-bbq-chicken-fundraiser-2/
LOCATION:VA
CATEGORIES:Chicken BBQ,Fundraising
END:VEVENT
BEGIN:VEVENT
DTSTART;TZID=America/New_York:20240504T080000
DTEND;TZID=America/New_York:20240504T120000
DTSTAMP:20260423T041713
CREATED:20240201T170206Z
LAST-MODIFIED:20240201T182524Z
UID:10000041-1714809600-1714824000@broadwayva.gov
SUMMARY:Broadway Community Market Opens
DESCRIPTION:The Broadway Community Market’s goal is to promote small businesses and create a space where the community can gather and nourish relationships. Previously known as the Broadway Farmer’s Market\, in 2022 they refocused their mission and now welcome homemade\, handmade\, local produce\, artisans\, crafters\, and direct sales vendors. Buy Fresh Buy Local is still important to the Market and they have many vendors promoting local foods and agricultural products. They also feature special pop-up markets\, entertainment\, health and wellness activities\, demonstrations\, and more! \nVisit the Community Market vendors every Saturday during season at the Veteran’s Memorial Wall. \n\n2024 Market Season: May 4 – September 7\, 8:00 a.m. – 12:00 noon\n2024 Autumn Festival & Antique Car Show: September 14\, 9:00 a.m. – 3:00 p.m.\n2024 Fall Market Season: September 21 – October 12\, 9:00 a.m. – 1:00 p.m.\n\nFor more information\, visit the Town of Broadway’s website by clicking here and following the Community Market’s Facebook and Instagram pages.
URL:https://broadwayva.gov/calendar-events/broadway-community-market-opens/
LOCATION:Community Market at Veterans Memorial Wall\, 161 South Main Street\, Broadway\, VA\, 22815\, United States
CATEGORIES:Children's Events,Community Event,Farmers Market
ATTACH;FMTTYPE=image/png:https://broadwayva.gov/wp-content/uploads/2024/02/website-calendar-featured-image-1.png
END:VEVENT
BEGIN:VEVENT
DTSTART;TZID=America/New_York:20240428T140000
DTEND;TZID=America/New_York:20240428T170000
DTSTAMP:20260423T041713
CREATED:20240425T205324Z
LAST-MODIFIED:20240425T205324Z
UID:10000137-1714312800-1714323600@broadwayva.gov
SUMMARY:Live Music with Dwight Martin at Beards & Broads - 4/28
DESCRIPTION:
URL:https://broadwayva.gov/calendar-events/live-music-with-kevin-quesenberry-at-beards-broads-4-28/
LOCATION:Beards & Broads Broadway\, 175 North Central Street\, Broadway\, VA\, 22815\, United States
CATEGORIES:Live Entertainment,Local Businesses
END:VEVENT
BEGIN:VEVENT
DTSTART;TZID=America/New_York:20240427T100000
DTEND;TZID=America/New_York:20240427T110000
DTSTAMP:20260423T041713
CREATED:20240418T191403Z
LAST-MODIFIED:20240418T203551Z
UID:10000135-1714212000-1714215600@broadwayva.gov
SUMMARY:Arbor Day Celebration Presented by Grandle Funeral Home
DESCRIPTION:Join us for an Arbor Day Celebration presented by Grandle Funeral Home. Beginning at 10:00 a.m. on Saturday\, April 27\, Town leadership will lead volunteers in planting trees at one of our community parks. We will also have an interactive and educational activity for families to celebrate Arbor Day. Special thanks to our Gold Sponsor Grandle Funeral Home and Silver Sponsor Kerry Group. Stay tuned for more details and reach out if you’d like to be involved. \nGold Sponsor: \n \nSilver Sponsor:
URL:https://broadwayva.gov/calendar-events/arbor-day-celebration-presented-by-grandle-funeral-home/
LOCATION:Heritage Park\, 145 Turner Ave.\, Broadway\, VA\, 22815\, United States
CATEGORIES:Children's Events,Community Event
END:VEVENT
BEGIN:VEVENT
DTSTART;TZID=America/New_York:20240427T090000
DTEND;TZID=America/New_York:20240427T130000
DTSTAMP:20260423T041713
CREATED:20240201T170445Z
LAST-MODIFIED:20240902T175905Z
UID:10000042-1714208400-1714222800@broadwayva.gov
SUMMARY:Gary E. Post Kids Fishing Day presented by Broadway Hometown Partnership
DESCRIPTION:*Rain date: May 4\, 2024\n 
URL:https://broadwayva.gov/calendar-events/gary-e-post-kids-fishing-day/
LOCATION:Heritage Park\, 145 Turner Ave.\, Broadway\, VA\, 22815\, United States
CATEGORIES:Children's Events,Community Event
ATTACH;FMTTYPE=image/gif:https://broadwayva.gov/wp-content/uploads/2022/01/kids_fishing_day.gif
END:VEVENT
BEGIN:VEVENT
DTSTART;TZID=America/New_York:20240426T180000
DTEND;TZID=America/New_York:20240426T200000
DTSTAMP:20260423T041713
CREATED:20240425T203517Z
LAST-MODIFIED:20240425T203517Z
UID:10000136-1714154400-1714161600@broadwayva.gov
SUMMARY:Live Music @ Fat Boyz BBQ & More - 4/26
DESCRIPTION:Live music featuring Corey Hager from 6:00-8:00PM. Click here to follow Fat Boyz BBQ & More Facebook page for more details. \n  \n 
URL:https://broadwayva.gov/calendar-events/live-music-fat-boyz-bbq-more-4-26/
LOCATION:Fat Boyz BBQ and More\, 466 South Main Street\, Broadway\, VA\, 22815\, United States
CATEGORIES:Live Entertainment,Local Businesses
END:VEVENT
BEGIN:VEVENT
DTSTART;TZID=America/New_York:20240420T180000
DTEND;TZID=America/New_York:20240420T210000
DTSTAMP:20260423T041713
CREATED:20240418T134358Z
LAST-MODIFIED:20240418T134358Z
UID:10000133-1713636000-1713646800@broadwayva.gov
SUMMARY:Live Music with Kevin Quesenberry at Beards & Broads - 4/20
DESCRIPTION:
URL:https://broadwayva.gov/calendar-events/live-music-with-kevin-quesenberry-at-beards-broads-4-20/
LOCATION:Beards & Broads Broadway\, 175 North Central Street\, Broadway\, VA\, 22815\, United States
CATEGORIES:Live Entertainment,Local Businesses
END:VEVENT
BEGIN:VEVENT
DTSTART;TZID=America/New_York:20240420T110000
DTEND;TZID=America/New_York:20240420T133000
DTSTAMP:20260423T041713
CREATED:20240201T171852Z
LAST-MODIFIED:20240202T180446Z
UID:10000051-1713610800-1713619800@broadwayva.gov
SUMMARY:Wingin’ It Woolies and Weavings Needle Felting Class - 3-D Highland Cow
DESCRIPTION:Wingin’ It Woolies and Weavings classes are a great way to learn the art of needle felting. The class is from 11:00 a.m. to 1:30 p.m. at J&B’s Country Store. All materials are provided to complete a project. A café lunch is included with the $40 fee. Please call J&B’s Country Store to register: 540.896.2880. Visit Wingin’ It Woolies and Weavings Facebook page for class examples.
URL:https://broadwayva.gov/calendar-events/wingin-it-woolies-and-weavings-3-d-highland-cow/
LOCATION:J&B’s Country Store\, 163 N Main St.\, Broadway\, VA\, 22815\, United States
CATEGORIES:Local Businesses
END:VEVENT
BEGIN:VEVENT
DTSTART;TZID=America/New_York:20240420T090000
DTEND;TZID=America/New_York:20240421T170000
DTSTAMP:20260423T041713
CREATED:20240303T231605Z
LAST-MODIFIED:20240418T141003Z
UID:10000115-1713603600-1713718800@broadwayva.gov
SUMMARY:Blue Ribbon Nursery Spring Open House
DESCRIPTION:Join Blue Ribbon Nursery & Landscaping for their kick off to spring. A weekend to celebrate spring and their anniversary – 18 years. Discounts\, sales\, door prizes all weekend long. Click here to visit their website and follow their Facebook event for more event details.
URL:https://broadwayva.gov/calendar-events/blue-ribbon-nursery-spring-open-house/
LOCATION:Blue Ribbon Nursery & Landscaping\, 192 S Main Street\, Broadway\, VA\, 22815\, United States
CATEGORIES:Local Businesses
END:VEVENT
BEGIN:VEVENT
DTSTART;TZID=America/New_York:20240420T090000
DTEND;TZID=America/New_York:20240420T170000
DTSTAMP:20260423T041713
CREATED:20240201T154226Z
LAST-MODIFIED:20240201T173144Z
UID:10000022-1713603600-1713632400@broadwayva.gov
SUMMARY:Earth Day/Plant Swap @ J&B's Country Store
DESCRIPTION:Join the vendors at J&B’s Country Store for an Earth Day/Plant Swap event from 9AM – 5PM. Learn more on their Facebook page by clicking here.
URL:https://broadwayva.gov/calendar-events/earth-day-plant-swap-jbs-country-store/
LOCATION:J&B’s Country Store\, 163 N Main St.\, Broadway\, VA\, 22815\, United States
CATEGORIES:Local Businesses
END:VEVENT
BEGIN:VEVENT
DTSTART;TZID=America/New_York:20240420T070000
DTEND;TZID=America/New_York:20240420T140000
DTSTAMP:20260423T041713
CREATED:20240201T160820Z
LAST-MODIFIED:20240418T144812Z
UID:10000033-1713596400-1713621600@broadwayva.gov
SUMMARY:Broadway Community Yard Sale
DESCRIPTION:Shop Broadway – Neighborhood yard sales and sidewalk sales with Main Street businesses! Join together with your neighbors to set up in your front lawns\, driveways and garages and sell your extra housewares\, clothing\, knick-knacks and vintage items for the seventh annual Broadway Community Yard Sale Day! Event is rain or shine.\nIf your home/subdivision is located within the Broadway town limits\, please email info@broadwayva.gov and we will add you to the list of participants. We will only promote locations within the Town of Broadway limits.\n\nClick here to learn more on Facebook. Click here for an interactive google map.
URL:https://broadwayva.gov/calendar-events/broadway-community-yard-sale/
LOCATION:VA
CATEGORIES:Community Event
ATTACH;FMTTYPE=image/gif:https://broadwayva.gov/wp-content/uploads/2022/01/yard_sale.gif
END:VEVENT
BEGIN:VEVENT
DTSTART;TZID=America/New_York:20240419T180000
DTEND;TZID=America/New_York:20240419T200000
DTSTAMP:20260423T041713
CREATED:20240418T142105Z
LAST-MODIFIED:20240418T142105Z
UID:10000134-1713549600-1713556800@broadwayva.gov
SUMMARY:Live Music @ Fat Boyz BBQ & More - 4/19
DESCRIPTION:Live music featuring Palmer Michael from 6:00-8:00PM. Click here to follow Fat Boyz BBQ & More Facebook page for more details. \n  \n 
URL:https://broadwayva.gov/calendar-events/live-music-fat-boyz-bbq-more-4-19/
LOCATION:Fat Boyz BBQ and More\, 466 South Main Street\, Broadway\, VA\, 22815\, United States
CATEGORIES:Live Entertainment,Local Businesses
END:VEVENT
BEGIN:VEVENT
DTSTART;TZID=America/New_York:20240414T140000
DTEND;TZID=America/New_York:20240414T170000
DTSTAMP:20260423T041713
CREATED:20240412T114044Z
LAST-MODIFIED:20240412T114044Z
UID:10000131-1713103200-1713114000@broadwayva.gov
SUMMARY:Live Music with Spencer Hatcher at Beards & Broads - 4/14
DESCRIPTION:
URL:https://broadwayva.gov/calendar-events/live-music-with-spencer-hatcher-at-beards-broads-april/
LOCATION:Beards & Broads Broadway\, 175 North Central Street\, Broadway\, VA\, 22815\, United States
CATEGORIES:Live Entertainment,Local Businesses
END:VEVENT
BEGIN:VEVENT
DTSTART;TZID=America/New_York:20240413T170000
DTEND;TZID=America/New_York:20240413T220000
DTSTAMP:20260423T041713
CREATED:20240303T232004Z
LAST-MODIFIED:20240312T164817Z
UID:10000116-1713027600-1713045600@broadwayva.gov
SUMMARY:Broadway Lions Club Cash Raffle Fundraiser
DESCRIPTION:Save the date for the Broadway Lions Club Annual Cash Raffle Fundraiser on Saturday\, April 13\, at 5:00 p.m. Follow along on their Facebook page by clicking here for more details. \n 
URL:https://broadwayva.gov/calendar-events/broadway-lions-club-cash-raffle-fundraiser/
LOCATION:Broadway Fire Department\, 117 N Central Street\, Broadway\, VA\, 22815\, United States
CATEGORIES:Community Event,Fundraising
END:VEVENT
BEGIN:VEVENT
DTSTART;TZID=America/New_York:20240413T110000
DTEND;TZID=America/New_York:20240413T120000
DTSTAMP:20260423T041713
CREATED:20240405T115846Z
LAST-MODIFIED:20240405T115846Z
UID:10000128-1713006000-1713009600@broadwayva.gov
SUMMARY:Plant Workshop @ Blue Ribbon Nursery & Landscaping - 4/13
DESCRIPTION:Plant a colorful watering can hanging basket with Blue Ribbon Nursery & Landscaping on April 13th! The cost will be $35 and will start at 11:00 am. Message Blue Ribbon Nursery on Facebook to sign up or you can comment on their event post.
URL:https://broadwayva.gov/calendar-events/plant-workshop-blue-ribbon-nursery-landscaping-4-13/
LOCATION:Blue Ribbon Nursery & Landscaping\, 192 S Main Street\, Broadway\, VA\, 22815\, United States
CATEGORIES:Local Businesses
END:VEVENT
BEGIN:VEVENT
DTSTART;TZID=America/New_York:20240413T090000
DTEND;TZID=America/New_York:20240413T090000
DTSTAMP:20260423T041713
CREATED:20240201T202257Z
LAST-MODIFIED:20240201T202257Z
UID:10000064-1712998800-1712998800@broadwayva.gov
SUMMARY:Broadway-Timberville Ruritan Club BBQ Chicken - April
DESCRIPTION:Check out their Facebook page by clicking here for more information.
URL:https://broadwayva.gov/calendar-events/broadway-timberville-ruritan-club-bbq-chicken-april/
LOCATION:VA
CATEGORIES:Chicken BBQ
END:VEVENT
BEGIN:VEVENT
DTSTART;TZID=America/New_York:20240413T073000
DTEND;TZID=America/New_York:20240413T090000
DTSTAMP:20260423T041713
CREATED:20240405T120152Z
LAST-MODIFIED:20240405T120152Z
UID:10000129-1712993400-1712998800@broadwayva.gov
SUMMARY:Community Pancake Breakfast at Sunset Drive Church - 4/13
DESCRIPTION:Community Pancake Breakfast\, Saturday April 13th\, 7:30-9am at Sunset Drive Church. They will have pancakes\, ham\, bacon\, eggs\, sausage gravy\, juice and coffee. A free will offering will be collected to support the community outreach at Sunset Drive UMC. They strive to serve the community in many ways including: feeding programs with the schools\, helping families in need\, support cub scouts\, WRE\, and many others as needs arise. Bring your friends and neighbors out to enjoy a good breakfast and help them support our local community.
URL:https://broadwayva.gov/calendar-events/community-pancake-breakfast-at-sunset-drive-church-4-13/
LOCATION:Sunset Drive Church\, 127 S Sunset Drive\, Broadway\, VA\, 22815\, United States
CATEGORIES:Fundraising
END:VEVENT
BEGIN:VEVENT
DTSTART;TZID=America/New_York:20240412T180000
DTEND;TZID=America/New_York:20240412T200000
DTSTAMP:20260423T041713
CREATED:20240412T114502Z
LAST-MODIFIED:20240412T114502Z
UID:10000132-1712944800-1712952000@broadwayva.gov
SUMMARY:Live Music @ Fat Boyz BBQ & More - 4/12
DESCRIPTION:Live music featuring Kevin Quesenberry from 6:00-8:00PM. Click here to follow Fat Boyz BBQ & More Facebook page for more details. \n  \n 
URL:https://broadwayva.gov/calendar-events/live-music-fat-boyz-bbq-more-4-12/
LOCATION:Fat Boyz BBQ and More\, 466 South Main Street\, Broadway\, VA\, 22815\, United States
CATEGORIES:Live Entertainment,Local Businesses
END:VEVENT
BEGIN:VEVENT
DTSTART;TZID=America/New_York:20240406T180000
DTEND;TZID=America/New_York:20240406T210000
DTSTAMP:20260423T041713
CREATED:20240405T113439Z
LAST-MODIFIED:20240405T114429Z
UID:10000126-1712426400-1712437200@broadwayva.gov
SUMMARY:Live Music with Justus MacKay at Beards & Broads - 4/6
DESCRIPTION:Enjoy live music with Justus MacKay from 6-9PM. Check out their new lighting in their performance space!
URL:https://broadwayva.gov/calendar-events/live-music-with-justin-mackay-at-beards-broads/
LOCATION:Beards & Broads Broadway\, 175 North Central Street\, Broadway\, VA\, 22815\, United States
CATEGORIES:Live Entertainment,Local Businesses
END:VEVENT
BEGIN:VEVENT
DTSTART;TZID=America/New_York:20240406T120000
DTEND;TZID=America/New_York:20240406T130000
DTSTAMP:20260423T041713
CREATED:20240405T115459Z
LAST-MODIFIED:20240405T115459Z
UID:10000127-1712404800-1712408400@broadwayva.gov
SUMMARY:Plant Workshop @ Blue Ribbon Nursery & Landscaping - 4/6
DESCRIPTION:Propagation 101 workshop. Learn how to propagate plants with Blue Ribbon Nursery & Landscaping! The cost will be $25 and will start at 12PM. Message Blue Ribbon Nursery on Facebook to sign up or you can comment on their event post.
URL:https://broadwayva.gov/calendar-events/plant-workshop-blue-ribbon-nursery-landscaping-4-6-2/
LOCATION:Blue Ribbon Nursery & Landscaping\, 192 S Main Street\, Broadway\, VA\, 22815\, United States
CATEGORIES:Local Businesses
END:VEVENT
BEGIN:VEVENT
DTSTART;TZID=America/New_York:20240406T110000
DTEND;TZID=America/New_York:20240406T133000
DTSTAMP:20260423T041713
CREATED:20240201T171801Z
LAST-MODIFIED:20240202T180453Z
UID:10000050-1712401200-1712410200@broadwayva.gov
SUMMARY:Wingin’ It Woolies and Weavings Needle Felting Class - 3-D Lamb
DESCRIPTION:Wingin’ It Woolies and Weavings classes are a great way to learn the art of needle felting. The class is from 11:00 a.m. to 1:30 p.m. at J&B’s Country Store. All materials are provided to complete a project. A café lunch is included with the $40 fee. Please call J&B’s Country Store to register: 540.896.2880. Visit Wingin’ It Woolies and Weavings Facebook page for class examples.
URL:https://broadwayva.gov/calendar-events/wingin-it-woolies-and-weavings-3-d-lamb/
LOCATION:J&B’s Country Store\, 163 N Main St.\, Broadway\, VA\, 22815\, United States
CATEGORIES:Local Businesses
END:VEVENT
BEGIN:VEVENT
DTSTART;TZID=America/New_York:20240406T110000
DTEND;TZID=America/New_York:20240406T120000
DTSTAMP:20260423T041713
CREATED:20240405T112750Z
LAST-MODIFIED:20240405T112750Z
UID:10000125-1712401200-1712404800@broadwayva.gov
SUMMARY:Plant Workshop @ Blue Ribbon Nursery & Landscaping - 4/6
DESCRIPTION:Plant your own Strawberry jar with either pansies\, Hens and Chics or strawberry plants! The cost of this class will be $40.00 and will be held on April 6th at 11:00am. Message Blue Ribbon Nursery on Facebook to sign up or you can comment on their event post.
URL:https://broadwayva.gov/calendar-events/plant-workshop-blue-ribbon-nursery-landscaping-4-6/
LOCATION:Blue Ribbon Nursery & Landscaping\, 192 S Main Street\, Broadway\, VA\, 22815\, United States
CATEGORIES:Local Businesses
END:VEVENT
BEGIN:VEVENT
DTSTART;TZID=America/New_York:20240406T090000
DTEND;TZID=America/New_York:20240406T090000
DTSTAMP:20260423T041713
CREATED:20240201T155841Z
LAST-MODIFIED:20240201T160940Z
UID:10000034-1712394000-1712394000@broadwayva.gov
SUMMARY:Broadway Lions Club BBQ Chicken Fundraiser
DESCRIPTION:The Broadway Lions Club will hold a chicken bbq fundraiser. Follow the Broadway Lions Club on Facebook by clicking here for updates. \nPick up at J Frank Hillard Middle School. Pick up time approximately 9AM. $5 per half.
URL:https://broadwayva.gov/calendar-events/broadway-lions-club-bbq-chicken-fundraiser/
LOCATION:VA
CATEGORIES:Chicken BBQ,Fundraising
END:VEVENT
BEGIN:VEVENT
DTSTART;TZID=America/New_York:20240405T180000
DTEND;TZID=America/New_York:20240405T200000
DTSTAMP:20260423T041713
CREATED:20240405T131503Z
LAST-MODIFIED:20240405T133811Z
UID:10000130-1712340000-1712347200@broadwayva.gov
SUMMARY:Live Music @ Fat Boyz BBQ & More - 4/5
DESCRIPTION:Live music featuring Psalm 150 Music from 6:00-8:00PM. Click here to follow Fat Boyz BBQ & More Facebook page for more details. \n 
URL:https://broadwayva.gov/calendar-events/live-music-fat-boyz-bbq-more-4-5/
LOCATION:Fat Boyz BBQ and More\, 466 South Main Street\, Broadway\, VA\, 22815\, United States
CATEGORIES:Live Entertainment,Local Businesses
END:VEVENT
END:VCALENDAR