BEGIN:VCALENDAR
VERSION:2.0
PRODID:-//Town of Broadway Virginia - ECPv6.15.20//NONSGML v1.0//EN
CALSCALE:GREGORIAN
METHOD:PUBLISH
X-WR-CALNAME:Town of Broadway Virginia
X-ORIGINAL-URL:https://broadwayva.gov
X-WR-CALDESC:Events for Town of Broadway Virginia
REFRESH-INTERVAL;VALUE=DURATION:PT1H
X-Robots-Tag:noindex
X-PUBLISHED-TTL:PT1H
BEGIN:VTIMEZONE
TZID:America/New_York
BEGIN:DAYLIGHT
TZOFFSETFROM:-0500
TZOFFSETTO:-0400
TZNAME:EDT
DTSTART:20230312T070000
END:DAYLIGHT
BEGIN:STANDARD
TZOFFSETFROM:-0400
TZOFFSETTO:-0500
TZNAME:EST
DTSTART:20231105T060000
END:STANDARD
BEGIN:DAYLIGHT
TZOFFSETFROM:-0500
TZOFFSETTO:-0400
TZNAME:EDT
DTSTART:20240310T070000
END:DAYLIGHT
BEGIN:STANDARD
TZOFFSETFROM:-0400
TZOFFSETTO:-0500
TZNAME:EST
DTSTART:20241103T060000
END:STANDARD
BEGIN:DAYLIGHT
TZOFFSETFROM:-0500
TZOFFSETTO:-0400
TZNAME:EDT
DTSTART:20250309T070000
END:DAYLIGHT
BEGIN:STANDARD
TZOFFSETFROM:-0400
TZOFFSETTO:-0500
TZNAME:EST
DTSTART:20251102T060000
END:STANDARD
END:VTIMEZONE
BEGIN:VEVENT
DTSTART;TZID=America/New_York:20240316T090000
DTEND;TZID=America/New_York:20240316T170000
DTSTAMP:20260423T063053
CREATED:20240201T154029Z
LAST-MODIFIED:20240201T173114Z
UID:10000021-1710579600-1710608400@broadwayva.gov
SUMMARY:Spring Open House @ J&B's Country Store
DESCRIPTION:Join the vendors at J&B’s Country Store for a Spring Open House from 9AM – 5PM. Learn more on their Facebook page by clicking here.
URL:https://broadwayva.gov/calendar-events/spring-open-house-jbs-country-store/
LOCATION:J&B’s Country Store\, 163 N Main St.\, Broadway\, VA\, 22815\, United States
CATEGORIES:Local Businesses
END:VEVENT
BEGIN:VEVENT
DTSTART;TZID=America/New_York:20240316T090000
DTEND;TZID=America/New_York:20240316T090000
DTSTAMP:20260423T063053
CREATED:20240201T200127Z
LAST-MODIFIED:20240201T200151Z
UID:10000063-1710579600-1710579600@broadwayva.gov
SUMMARY:Broadway-Timberville Ruritan Club BBQ Chicken
DESCRIPTION:Check out their Facebook page by clicking here for more information.
URL:https://broadwayva.gov/calendar-events/broadway-timberville-ruritan-club-bbq-chicken/
LOCATION:VA
CATEGORIES:Chicken BBQ
END:VEVENT
BEGIN:VEVENT
DTSTART;TZID=America/New_York:20240313T100000
DTEND;TZID=America/New_York:20240313T230000
DTSTAMP:20260423T063053
CREATED:20240229T125607Z
LAST-MODIFIED:20240229T125958Z
UID:10000113-1710324000-1710370800@broadwayva.gov
SUMMARY:Domino's Dough-Nation Day - Gunner Thomas Fundraiser
DESCRIPTION:
URL:https://broadwayva.gov/calendar-events/dominos-dough-nation-day-gunner-thomas-fundraiser/
LOCATION:Domino’s Pizza\, 105 Timber Way\, Broadway\, VA\, 22815\, United States
CATEGORIES:Fundraising,Local Businesses
END:VEVENT
BEGIN:VEVENT
DTSTART;TZID=America/New_York:20240310T150000
DTEND;TZID=America/New_York:20240310T170000
DTSTAMP:20260423T063053
CREATED:20240205T134140Z
LAST-MODIFIED:20240205T134536Z
UID:10000104-1710082800-1710090000@broadwayva.gov
SUMMARY:JFHMS Rock Of Ages Youth Edition Musical - 3/10
DESCRIPTION:J. Frank Hillyard Middle School \nMarch 8 & 9\, 2024 at 7:00 pm \nMarch 10\, 2024 at 3:00 pm
URL:https://broadwayva.gov/calendar-events/jfhms-rock-of-ages-youth-edition-musical-3-10/
LOCATION:J. Frank Hillyard Middle School\, 226 Hawks Hill Drive\, Broadway\, VA\, 22815\, United States
CATEGORIES:Children's Events,Live Entertainment,Theater
END:VEVENT
BEGIN:VEVENT
DTSTART;TZID=America/New_York:20240309T190000
DTEND;TZID=America/New_York:20240309T210000
DTSTAMP:20260423T063053
CREATED:20240205T134108Z
LAST-MODIFIED:20240205T134629Z
UID:10000103-1710010800-1710018000@broadwayva.gov
SUMMARY:JFHMS Rock Of Ages Youth Edition Musical - 3/9
DESCRIPTION:J. Frank Hillyard Middle School \nMarch 8 & 9\, 2024 at 7:00 pm \nMarch 10\, 2024 at 3:00 pm
URL:https://broadwayva.gov/calendar-events/jfhms-rock-of-ages-youth-edition-musical-3-9/
LOCATION:J. Frank Hillyard Middle School\, 226 Hawks Hill Drive\, Broadway\, VA\, 22815\, United States
CATEGORIES:Children's Events,Live Entertainment,Theater
END:VEVENT
BEGIN:VEVENT
DTSTART;TZID=America/New_York:20240309T110000
DTEND;TZID=America/New_York:20240309T133000
DTSTAMP:20260423T063053
CREATED:20240119T021413Z
LAST-MODIFIED:20240202T180506Z
UID:10000013-1709982000-1709991000@broadwayva.gov
SUMMARY:Wingin' It Woolies and Weavings Needle Felting Class - Gnome/Leprechaun
DESCRIPTION:Wingin’ It Woolies and Weavings classes are a great way to learn the art of needle felting. The class is from 11:00 a.m. to 1:30 p.m. at J&B’s Country Store. All materials are provided to complete a project. A café lunch is included with the $40 fee. Please call J&B’s Country Store to register: 540.896.2880. Visit Wingin’ It Woolies and Weavings Facebook page for class examples.
URL:https://broadwayva.gov/calendar-events/wingin-it-woolies-and-weavings-gnome-leprechaun/
LOCATION:J&B’s Country Store\, 163 N Main St.\, Broadway\, VA\, 22815\, United States
CATEGORIES:Local Businesses
END:VEVENT
BEGIN:VEVENT
DTSTART;TZID=America/New_York:20240309T110000
DTEND;TZID=America/New_York:20240309T120000
DTSTAMP:20260423T063053
CREATED:20240303T231308Z
LAST-MODIFIED:20240303T231308Z
UID:10000114-1709982000-1709985600@broadwayva.gov
SUMMARY:Plant Workshop @ Blue Ribbon Nursery & Landscaping - 3/9
DESCRIPTION:Propagation 101 workshop. Learn how to propagate plants with Blue Ribbon Nursery & Landscaping! The cost will be $25 and will include the propagation station plus 5 cuttings from our plants. Message Blue Ribbon Nursery on Facebook to sign up or you can comment on their event post.
URL:https://broadwayva.gov/calendar-events/plant-workshop-blue-ribbon-nursery-landscaping-3-9/
LOCATION:Blue Ribbon Nursery & Landscaping\, 192 S Main Street\, Broadway\, VA\, 22815\, United States
CATEGORIES:Local Businesses
END:VEVENT
BEGIN:VEVENT
DTSTART;TZID=America/New_York:20240308T190000
DTEND;TZID=America/New_York:20240308T210000
DTSTAMP:20260423T063053
CREATED:20240205T132525Z
LAST-MODIFIED:20240205T134716Z
UID:10000102-1709924400-1709931600@broadwayva.gov
SUMMARY:JFHMS Rock Of Ages Youth Edition Musical - 3/8
DESCRIPTION:J. Frank Hillyard Middle School \nMarch 8 & 9\, 2024 at 7:00 pm \nMarch 10\, 2024 at 3:00 pm
URL:https://broadwayva.gov/calendar-events/jfhms-rock-of-ages-youth-edition-musical-3-8/
LOCATION:J. Frank Hillyard Middle School\, 226 Hawks Hill Drive\, Broadway\, VA\, 22815\, United States
CATEGORIES:Children's Events,Live Entertainment,Theater
END:VEVENT
BEGIN:VEVENT
DTSTART;TZID=America/New_York:20240308T180000
DTEND;TZID=America/New_York:20240308T210000
DTSTAMP:20260423T063053
CREATED:20240306T123035Z
LAST-MODIFIED:20240306T123035Z
UID:10000118-1709920800-1709931600@broadwayva.gov
SUMMARY:Live Music @ Fat Boyz BBQ & More - 3/8
DESCRIPTION:Live music featuring Zac Townsend and Chris Huntt Jr. from 6:00-9:00PM. Click here to follow Fat Boyz BBQ & More Facebook page for more details.
URL:https://broadwayva.gov/calendar-events/live-music-fat-boyz-bbq-more-3-8/
LOCATION:Fat Boyz BBQ and More\, 466 South Main Street\, Broadway\, VA\, 22815\, United States
CATEGORIES:Live Entertainment,Local Businesses
END:VEVENT
BEGIN:VEVENT
DTSTART;TZID=America/New_York:20240302T170000
DTEND;TZID=America/New_York:20240302T230000
DTSTAMP:20260423T063053
CREATED:20240119T021050Z
LAST-MODIFIED:20240201T145343Z
UID:10000012-1709398800-1709420400@broadwayva.gov
SUMMARY:Rotary Club of Broadway-Timberville's Night at the Races Fundraiser
DESCRIPTION:Join the Rotary Club of Broadway-Timberville’s Night at the Races 2024!\n\nProceeds from this event will benefit local projects and organizations that partner with Rotary throughout the year. Last year’s event raised almost $8\,000 for the Plains Elementary School playground project.\n\nTickets are $50 per person which includes dinner\, unlimited drinks (including beer and wine)\, “funny money” for “gambling” and entry into a $1\,000 drawing.\nAll event attendees must be at least 21 years of age.\nThe event will consist of “gambling” on pre-recorded horse races\, Casino games (Poker\, Black Jack\, etc.)\, and other “gambling” opportunities.\nAt the end of the evening\, you may use your funny money to buy chances for a $250 drawing.\nThe Nuts & Bolts:\nPoker chips can be purchased with cash or funny money\, but cannot be converted back into cash\nAdditional funny money can be purchased dollar for dollar\nThe cost of each horse race bet is $3 and can ONLY be placed with funny money\nSilent auction items must be paid for with cash or check\nFunny money CANNOT be redeemed for cash at the end of the night\nPull tabs and 50/50 raffles may only be purchased with cash and winners will be paid in cash\n\nYou must be present or your ticket must be represented by someone to win the $1\,000 or $250 drawing.
URL:https://broadwayva.gov/calendar-events/night-at-the-races-fundraiser/
LOCATION:Plains District Community Center\, 233 McCauley Ave\,\, Timberville\, VA\, 22853\, United States
CATEGORIES:Fundraising
END:VEVENT
BEGIN:VEVENT
DTSTART;TZID=America/New_York:20240302T110000
DTEND;TZID=America/New_York:20240302T120000
DTSTAMP:20260423T063053
CREATED:20240229T124526Z
LAST-MODIFIED:20240229T124526Z
UID:10000112-1709377200-1709380800@broadwayva.gov
SUMMARY:Plant Workshop @ Blue Ribbon Nursery & Landscaping - 3/2
DESCRIPTION:How to make a Japanese Kokedama ball workshop! Come learn the ancient Japanese art of Kokedama. The cost will be $35 for the class. Message Blue Ribbon Nursery on Facebook to sign up or you can comment on their event post.
URL:https://broadwayva.gov/calendar-events/plant-workshop-blue-ribbon-nursery-landscaping-3-2/
LOCATION:Blue Ribbon Nursery & Landscaping\, 192 S Main Street\, Broadway\, VA\, 22815\, United States
CATEGORIES:Local Businesses
END:VEVENT
BEGIN:VEVENT
DTSTART;TZID=America/New_York:20240302T090000
DTEND;TZID=America/New_York:20240302T090000
DTSTAMP:20260423T063053
CREATED:20240119T020557Z
LAST-MODIFIED:20240201T145228Z
UID:10000011-1709370000-1709370000@broadwayva.gov
SUMMARY:Broadway Lions Club BBQ Chicken
DESCRIPTION:The Broadway Lions Club will hold a chicken bbq fundraiser. Follow the Broadway Lions Club on Facebook by clicking here for updates. \nPick up at J Frank Hillard Middle School. Pick up time approximately 9AM. $5 per half.
URL:https://broadwayva.gov/calendar-events/bbq-chicken/
LOCATION:VA
CATEGORIES:Chicken BBQ,Fundraising
END:VEVENT
BEGIN:VEVENT
DTSTART;TZID=America/New_York:20240301T180000
DTEND;TZID=America/New_York:20240301T200000
DTSTAMP:20260423T063053
CREATED:20240229T124226Z
LAST-MODIFIED:20240229T124226Z
UID:10000111-1709316000-1709323200@broadwayva.gov
SUMMARY:Live Music @ Fat Boyz BBQ & More - 3/1
DESCRIPTION:Live music featuring Psalm 150 at Fat Boyz BBQ & More from 6:00-8:00PM. Click here to follow Fat Boyz BBQ & More Facebook page for more details.
URL:https://broadwayva.gov/calendar-events/live-music-fat-boyz-bbq-more-3-1/
LOCATION:Fat Boyz BBQ and More\, 466 South Main Street\, Broadway\, VA\, 22815\, United States
CATEGORIES:Live Entertainment,Local Businesses
END:VEVENT
BEGIN:VEVENT
DTSTART;TZID=America/New_York:20240225T140000
DTEND;TZID=America/New_York:20240225T170000
DTSTAMP:20260423T063053
CREATED:20240222T162050Z
LAST-MODIFIED:20240222T162050Z
UID:10000110-1708869600-1708880400@broadwayva.gov
SUMMARY:Live Music with Spencer Hatcher at Beards & Broads
DESCRIPTION:
URL:https://broadwayva.gov/calendar-events/live-music-with-spencer-hatcher-at-beards-broads/
LOCATION:Beards & Broads Broadway\, 175 North Central Street\, Broadway\, VA\, 22815\, United States
CATEGORIES:Live Entertainment,Local Businesses
END:VEVENT
BEGIN:VEVENT
DTSTART;TZID=America/New_York:20240225T110000
DTEND;TZID=America/New_York:20240225T140000
DTSTAMP:20260423T063053
CREATED:20240212T164929Z
LAST-MODIFIED:20240212T165002Z
UID:10000106-1708858800-1708869600@broadwayva.gov
SUMMARY:Broadway Emergency Squad Tenderloin Dinner Fundraiser
DESCRIPTION:
URL:https://broadwayva.gov/calendar-events/broadway-emergency-squad-tenderloin-dinner-fundraiser/
LOCATION:Broadway Emergency Squad\, 525 South Main Street\, Broadway\, VA\, 22815\, United States
CATEGORIES:Fundraising
END:VEVENT
BEGIN:VEVENT
DTSTART;TZID=America/New_York:20240224T110000
DTEND;TZID=America/New_York:20240224T133000
DTSTAMP:20260423T063053
CREATED:20240119T015506Z
LAST-MODIFIED:20240202T180512Z
UID:10000010-1708772400-1708781400@broadwayva.gov
SUMMARY:Wingin' It Woolies and Weavings Needle Felting Class - 3-D Rabbit
DESCRIPTION:Wingin’ It Woolies and Weavings classes are a great way to learn the art of needle felting. The class is from 11:00 a.m. to 1:30 p.m. at J&B’s Country Store. All materials are provided to complete a project. A café lunch is included with the $40 fee. Please call J&B’s Country Store to register: 540.896.2880. Visit Wingin’ It Woolies and Weavings Facebook page for class examples.
URL:https://broadwayva.gov/calendar-events/wingin-it-woolies-and-weavings-3-d-rabbit/
LOCATION:J&B’s Country Store\, 163 N Main St.\, Broadway\, VA\, 22815\, United States
CATEGORIES:Local Businesses
ATTACH;FMTTYPE=image/jpeg:https://broadwayva.gov/wp-content/uploads/2024/01/wingin-it-examples.jpg
END:VEVENT
BEGIN:VEVENT
DTSTART;TZID=America/New_York:20240224T110000
DTEND;TZID=America/New_York:20240224T120000
DTSTAMP:20260423T063053
CREATED:20240222T161658Z
LAST-MODIFIED:20240222T161658Z
UID:10000108-1708772400-1708776000@broadwayva.gov
SUMMARY:Plant Workshop @ Blue Ribbon Nursery & Landscaping - 2/24
DESCRIPTION:Do you have a terrarium that is looking a little sad? Bring your bowl and give it some much needed attention. The cost will be $25 if you use your bowl. Don’t have a terrarium bowl? No worries. The cost will be $35 for the class including the bowl. Message Blue Ribbon Nursery on Facebook to sign up or you can comment on their event post.
URL:https://broadwayva.gov/calendar-events/plant-workshop-blue-ribbon-nursery-landscaping-2-24/
LOCATION:Blue Ribbon Nursery & Landscaping\, 192 S Main Street\, Broadway\, VA\, 22815\, United States
CATEGORIES:Local Businesses
END:VEVENT
BEGIN:VEVENT
DTSTART;TZID=America/New_York:20240223T180000
DTEND;TZID=America/New_York:20240223T200000
DTSTAMP:20260423T063053
CREATED:20240222T161927Z
LAST-MODIFIED:20240222T161927Z
UID:10000109-1708711200-1708718400@broadwayva.gov
SUMMARY:Live Music @ Fat Boyz BBQ & More - 2/23
DESCRIPTION:Live music featuring Josh Conley at Fat Boyz BBQ & More from 6:00-8:00PM. Click here to follow Fat Boyz BBQ & More Facebook page for more details.
URL:https://broadwayva.gov/calendar-events/live-music-fat-boyz-bbq-more-2-23/
LOCATION:Fat Boyz BBQ and More\, 466 South Main Street\, Broadway\, VA\, 22815\, United States
CATEGORIES:Live Entertainment,Local Businesses
END:VEVENT
BEGIN:VEVENT
DTSTART;TZID=America/New_York:20240218T150000
DTEND;TZID=America/New_York:20240218T180000
DTSTAMP:20260423T063053
CREATED:20240201T153816Z
LAST-MODIFIED:20240201T153816Z
UID:10000020-1708268400-1708279200@broadwayva.gov
SUMMARY:BHS Presents: The Addams Family
DESCRIPTION:Come join the family! Broadway High School presents their 45th annual musical! Join them for an amazing production of The Addams Family (School Edition) opening on February 15\, 2024. Tickets on Sale January 29th at 5pm!\n\nOpening Night: Thursday\, 2/15 @7pm\nFriday\, 2/16 @7pm\nSaturday 2/17 @7pm\nSunday 2/18 @3pm (with Class of 2024 Recognition)
URL:https://broadwayva.gov/calendar-events/bhs-presents-the-addams-family-4/
LOCATION:Broadway High School\, 127 Gobbler Drive\, Broadway\, VA\, 22815\, United States
CATEGORIES:Live Entertainment,Theater
END:VEVENT
BEGIN:VEVENT
DTSTART;TZID=America/New_York:20240217T190000
DTEND;TZID=America/New_York:20240217T220000
DTSTAMP:20260423T063053
CREATED:20240201T153730Z
LAST-MODIFIED:20240201T153743Z
UID:10000019-1708196400-1708207200@broadwayva.gov
SUMMARY:BHS Presents: The Addams Family
DESCRIPTION:Come join the family! Broadway High School presents their 45th annual musical! Join them for an amazing production of The Addams Family (School Edition) opening on February 15\, 2024. Tickets on Sale January 29th at 5pm!\n\nOpening Night: Thursday\, 2/15 @7pm\nFriday\, 2/16 @7pm\nSaturday 2/17 @7pm\nSunday 2/18 @3pm (with Class of 2024 Recognition)
URL:https://broadwayva.gov/calendar-events/bhs-presents-the-addams-family-3/
LOCATION:Broadway High School\, 127 Gobbler Drive\, Broadway\, VA\, 22815\, United States
CATEGORIES:Live Entertainment,Theater
END:VEVENT
BEGIN:VEVENT
DTSTART;TZID=America/New_York:20240217T170000
DTEND;TZID=America/New_York:20240217T190000
DTSTAMP:20260423T063053
CREATED:20240205T131616Z
LAST-MODIFIED:20240205T131734Z
UID:10000101-1708189200-1708196400@broadwayva.gov
SUMMARY:Cub Scout Pack 1 Spaghetti Dinner Fundraiser
DESCRIPTION:
URL:https://broadwayva.gov/calendar-events/cub-scout-pack-1-spaghetti-dinner-fundraiser/
LOCATION:VA
CATEGORIES:Fundraising
END:VEVENT
BEGIN:VEVENT
DTSTART;TZID=America/New_York:20240217T110000
DTEND;TZID=America/New_York:20240217T133000
DTSTAMP:20260423T063053
CREATED:20240119T015358Z
LAST-MODIFIED:20240202T180517Z
UID:10000009-1708167600-1708176600@broadwayva.gov
SUMMARY:Wingin' It Woolies and Weavings Needle Felting Class - 2-D Rabbit
DESCRIPTION:Wingin’ It Woolies and Weavings classes are a great way to learn the art of needle felting. The class is from 11:00 a.m. to 1:30 p.m. at J&B’s Country Store. All materials are provided to complete a project. A café lunch is included with the $40 fee. Please call J&B’s Country Store to register: 540.896.2880. Visit Wingin’ It Woolies and Weavings Facebook page for class examples.
URL:https://broadwayva.gov/calendar-events/wingin-it-woolies-and-weavings-2-d-rabbit/
LOCATION:J&B’s Country Store\, 163 N Main St.\, Broadway\, VA\, 22815\, United States
CATEGORIES:Local Businesses
END:VEVENT
BEGIN:VEVENT
DTSTART;TZID=America/New_York:20240217T110000
DTEND;TZID=America/New_York:20240217T120000
DTSTAMP:20260423T063053
CREATED:20240213T182039Z
LAST-MODIFIED:20240213T182039Z
UID:10000107-1708167600-1708171200@broadwayva.gov
SUMMARY:Plant Workshop @ Blue Ribbon Nursery & Landscaping
DESCRIPTION:Pick Your choice of Rooster\, Tea Cup or Face planter Then pick your plant. Cost will be 25 Dollars. Blue Ribbon Nursery & Landscaping supplies everything. Message them on Facebook to sign up or you can comment on their event post.
URL:https://broadwayva.gov/calendar-events/plant-workshop-blue-ribbon-nursery-landscaping-3/
LOCATION:Blue Ribbon Nursery & Landscaping\, 192 S Main Street\, Broadway\, VA\, 22815\, United States
CATEGORIES:Local Businesses
END:VEVENT
BEGIN:VEVENT
DTSTART;TZID=America/New_York:20240216T190000
DTEND;TZID=America/New_York:20240216T220000
DTSTAMP:20260423T063053
CREATED:20240201T153640Z
LAST-MODIFIED:20240201T153640Z
UID:10000018-1708110000-1708120800@broadwayva.gov
SUMMARY:BHS Presents: The Addams Family
DESCRIPTION:Come join the family! Broadway High School presents their 45th annual musical! Join them for an amazing production of The Addams Family (School Edition) opening on February 15\, 2024. Tickets on Sale January 29th at 5pm!\n\nOpening Night: Thursday\, 2/15 @7pm\nFriday\, 2/16 @7pm\nSaturday 2/17 @7pm\nSunday 2/18 @3pm (with Class of 2024 Recognition)\n 
URL:https://broadwayva.gov/calendar-events/bhs-presents-the-addams-family-2/
LOCATION:Broadway High School\, 127 Gobbler Drive\, Broadway\, VA\, 22815\, United States
CATEGORIES:Live Entertainment,Theater
END:VEVENT
BEGIN:VEVENT
DTSTART;TZID=America/New_York:20240215T190000
DTEND;TZID=America/New_York:20240215T220000
DTSTAMP:20260423T063053
CREATED:20240201T153430Z
LAST-MODIFIED:20240201T153430Z
UID:10000017-1708023600-1708034400@broadwayva.gov
SUMMARY:BHS Presents: The Addams Family
DESCRIPTION:Come join the family! Broadway High School presents their 45th annual musical! Join them for an amazing production of The Addams Family (School Edition) opening on February 15\, 2024. Tickets on Sale January 29th at 5pm!\n\nOpening Night: Thursday\, 2/15 @7pm\nFriday\, 2/16 @7pm\nSaturday 2/17 @7pm\nSunday 2/18 @3pm (with Class of 2024 Recognition)
URL:https://broadwayva.gov/calendar-events/bhs-presents-the-addams-family/
LOCATION:Broadway High School\, 127 Gobbler Drive\, Broadway\, VA\, 22815\, United States
CATEGORIES:Live Entertainment,Theater
END:VEVENT
BEGIN:VEVENT
DTSTART;TZID=America/New_York:20240214T060000
DTEND;TZID=America/New_York:20240214T220000
DTSTAMP:20260423T063053
CREATED:20240201T183326Z
LAST-MODIFIED:20240201T183935Z
UID:10000062-1707890400-1707948000@broadwayva.gov
SUMMARY:Celebrate Valentine's Day in Broadway
DESCRIPTION:
URL:https://broadwayva.gov/calendar-events/celebrate-valentines-day-in-broadway/
LOCATION:VA
CATEGORIES:Community Event,Holiday,Local Businesses
ATTACH;FMTTYPE=image/png:https://broadwayva.gov/wp-content/uploads/2024/02/website-calendar-featured-image-3.png
END:VEVENT
BEGIN:VEVENT
DTSTART;TZID=America/New_York:20240210T110000
DTEND;TZID=America/New_York:20240210T120000
DTSTAMP:20260423T063053
CREATED:20240202T132644Z
LAST-MODIFIED:20240202T185633Z
UID:10000077-1707562800-1707566400@broadwayva.gov
SUMMARY:Plant Workshop @ Blue Ribbon Nursery & Landscaping
DESCRIPTION:Hanging Lovers Day Planter Workshop – Cost of the Workshop is $35. Plant your own hanging combo! Add in some hearts and Valentines décor! Blue Ribbon Nursery & Landscaping supplies everything. Message them on Facebook to sign up or you can comment on their event post.
URL:https://broadwayva.gov/calendar-events/plant-workshop-blue-ribbon-nursery-landscaping-2/
LOCATION:Blue Ribbon Nursery & Landscaping\, 192 S Main Street\, Broadway\, VA\, 22815\, United States
CATEGORIES:Local Businesses
END:VEVENT
BEGIN:VEVENT
DTSTART;TZID=America/New_York:20240210T090000
DTEND;TZID=America/New_York:20240210T170000
DTSTAMP:20260423T063053
CREATED:20240119T015127Z
LAST-MODIFIED:20240201T172843Z
UID:10000008-1707555600-1707584400@broadwayva.gov
SUMMARY:Valentine's Celebration @ J&B's Country Store
DESCRIPTION:Join the vendors at J&B’s Country Store for a Valentine’s Celebration from 9AM – 5PM.
URL:https://broadwayva.gov/calendar-events/valentines-celebration/
LOCATION:J&B’s Country Store\, 163 N Main St.\, Broadway\, VA\, 22815\, United States
CATEGORIES:Local Businesses
END:VEVENT
BEGIN:VEVENT
DTSTART;TZID=America/New_York:20240210T073000
DTEND;TZID=America/New_York:20240210T090000
DTSTAMP:20260423T063053
CREATED:20240201T151711Z
LAST-MODIFIED:20240201T151711Z
UID:10000016-1707550200-1707555600@broadwayva.gov
SUMMARY:Community Pancake Breakfast at Sunset Drive Church
DESCRIPTION:Come enjoy a delicious pancake breakfast complete with eggs\, bacon\, ham\, sausage gravy\, juice and coffee\, from 7:30-9am. There will be a free will offering to support local students who are battling cancer. Come out to support them and share in a great meal.
URL:https://broadwayva.gov/calendar-events/community-pancake-breakfast-at-sunset-drive-church/
LOCATION:Sunset Drive Church\, 127 S Sunset Drive\, Broadway\, VA\, 22815\, United States
CATEGORIES:Fundraising
END:VEVENT
BEGIN:VEVENT
DTSTART;TZID=America/New_York:20240209T180000
DTEND;TZID=America/New_York:20240209T200000
DTSTAMP:20260423T063053
CREATED:20240208T174846Z
LAST-MODIFIED:20240208T174921Z
UID:10000105-1707501600-1707508800@broadwayva.gov
SUMMARY:Live Music @ Fat Boyz BBQ & More
DESCRIPTION:Live music featuring Matt Palmieri at Fat Boyz BBQ & More from 6:00-8:00PM. Click here to follow Fat Boyz BBQ & More Facebook page for more details.
URL:https://broadwayva.gov/calendar-events/live-music-fat-boyz-bbq-more/
LOCATION:Fat Boyz BBQ and More\, 466 South Main Street\, Broadway\, VA\, 22815\, United States
CATEGORIES:Live Entertainment,Local Businesses
END:VEVENT
END:VCALENDAR