BEGIN:VCALENDAR
VERSION:2.0
PRODID:-//Town of Broadway Virginia - ECPv6.15.20//NONSGML v1.0//EN
CALSCALE:GREGORIAN
METHOD:PUBLISH
X-WR-CALNAME:Town of Broadway Virginia
X-ORIGINAL-URL:https://broadwayva.gov
X-WR-CALDESC:Events for Town of Broadway Virginia
REFRESH-INTERVAL;VALUE=DURATION:PT1H
X-Robots-Tag:noindex
X-PUBLISHED-TTL:PT1H
BEGIN:VTIMEZONE
TZID:America/New_York
BEGIN:DAYLIGHT
TZOFFSETFROM:-0500
TZOFFSETTO:-0400
TZNAME:EDT
DTSTART:20250309T070000
END:DAYLIGHT
BEGIN:STANDARD
TZOFFSETFROM:-0400
TZOFFSETTO:-0500
TZNAME:EST
DTSTART:20251102T060000
END:STANDARD
BEGIN:DAYLIGHT
TZOFFSETFROM:-0500
TZOFFSETTO:-0400
TZNAME:EDT
DTSTART:20260308T070000
END:DAYLIGHT
BEGIN:STANDARD
TZOFFSETFROM:-0400
TZOFFSETTO:-0500
TZNAME:EST
DTSTART:20261101T060000
END:STANDARD
BEGIN:DAYLIGHT
TZOFFSETFROM:-0500
TZOFFSETTO:-0400
TZNAME:EDT
DTSTART:20270314T070000
END:DAYLIGHT
BEGIN:STANDARD
TZOFFSETFROM:-0400
TZOFFSETTO:-0500
TZNAME:EST
DTSTART:20271107T060000
END:STANDARD
END:VTIMEZONE
BEGIN:VEVENT
DTSTART;VALUE=DATE:20260425
DTEND;VALUE=DATE:20260426
DTSTAMP:20260422T135116
CREATED:20260115T161757Z
LAST-MODIFIED:20260115T193913Z
UID:10000246-1777075200-1777161599@broadwayva.gov
SUMMARY:Gary E. Post Kids Fishing Day Rain Date - 2026
DESCRIPTION:Sponsored and coordinated by Broadway Hometown Partnership with sponsorships from businesses/civic clubs\n\n*May 2 – Gary E. Post Kids Fishing Day Rain Date (Heritage Park) \n 
URL:https://broadwayva.gov/calendar-events/gary-e-post-kids-fishing-day-rain-date-2026/
LOCATION:Heritage Park\, 145 Turner Ave.\, Broadway\, VA\, 22815\, United States
CATEGORIES:Children's Events,Community Event
ATTACH;FMTTYPE=image/gif:https://broadwayva.gov/wp-content/uploads/2022/01/kids_fishing_day.gif
END:VEVENT
BEGIN:VEVENT
DTSTART;TZID=America/New_York:20260509T090000
DTEND;TZID=America/New_York:20260509T110000
DTSTAMP:20260422T135116
CREATED:20260327T202257Z
LAST-MODIFIED:20260327T202401Z
UID:10000256-1778317200-1778324400@broadwayva.gov
SUMMARY:BHP Gobbler Wobble 5K - sponsored by Broadway Hometown Partnership
DESCRIPTION:5K Starts and Ends at Broadway High School \nRegistration: $30 t-shirt included \nSignup Deadline: April 24\, 2026 \nRunners & Walkers are welcome. Proceeds will go to help place veteran flags along Main Street. \nSign up link: 5k – Broadway Hometown Partnership \nFacebook Event: BHP Gobbler Wobble 5K Run/Walk | Facebook \nFor questions or to be a sponsor\, contact Amy Moyers (540)810-4110
URL:https://broadwayva.gov/calendar-events/bhp-gobbler-wobble-5k-sponsored-by-broadway-hometown-partnership/
LOCATION:Heritage Park\, 145 Turner Ave.\, Broadway\, VA\, 22815\, United States
CATEGORIES:Children's Events,Community Event
END:VEVENT
BEGIN:VEVENT
DTSTART;VALUE=DATE:20260516
DTEND;VALUE=DATE:20260517
DTSTAMP:20260422T135116
CREATED:20260311T200130Z
LAST-MODIFIED:20260311T200130Z
UID:10000255-1778889600-1778975999@broadwayva.gov
SUMMARY:Broadway Movie Night - May 2026
DESCRIPTION:Coordinated and sponsored by Broadway Lions Club & Town with sponsorship by local business\nRain date for this event is Saturday\, May 23\, 2026\nThose interested in sponsoring or volunteering can call Lion / Councilman Chad Comer at 540-896-6358.
URL:https://broadwayva.gov/calendar-events/broadway-movie-night-may-2026/
LOCATION:Heritage Park\, 145 Turner Ave.\, Broadway\, VA\, 22815\, United States
CATEGORIES:Children's Events,Community Event
ATTACH;FMTTYPE=image/png:https://broadwayva.gov/wp-content/uploads/2023/01/Untitled-design-21.png
END:VEVENT
BEGIN:VEVENT
DTSTART;VALUE=DATE:20260711
DTEND;VALUE=DATE:20260712
DTSTAMP:20260422T135116
CREATED:20260115T162530Z
LAST-MODIFIED:20260115T162541Z
UID:10000247-1783728000-1783814399@broadwayva.gov
SUMMARY:Red\, White & Brew - 2026
DESCRIPTION:Coordinated and sponsored by Broadway Hometown Partnership with sponsorships from businesses
URL:https://broadwayva.gov/calendar-events/red-white-brew-2026/
LOCATION:Heritage Park\, 145 Turner Ave.\, Broadway\, VA\, 22815\, United States
CATEGORIES:Festival,Live Entertainment
END:VEVENT
BEGIN:VEVENT
DTSTART;TZID=America/New_York:20260804T170000
DTEND;TZID=America/New_York:20260804T190000
DTSTAMP:20260422T135116
CREATED:20260115T164927Z
LAST-MODIFIED:20260115T164927Z
UID:10000253-1785862800-1785870000@broadwayva.gov
SUMMARY:National Night Out 2026
DESCRIPTION:Coordinated and sponsored by Town of Broadway and Greenmount 4-H Club
URL:https://broadwayva.gov/calendar-events/national-night-out-2026/
LOCATION:Community Park\, 102 S Sunset Drive\, Broadway\, VA\, 22815\, United States
CATEGORIES:Children's Events,Community Event
ATTACH;FMTTYPE=image/jpeg:https://broadwayva.gov/wp-content/uploads/2026/01/NNO-logo-2026.jpg
END:VEVENT
BEGIN:VEVENT
DTSTART;TZID=America/New_York:20260912T090000
DTEND;TZID=America/New_York:20260912T150000
DTSTAMP:20260422T135116
CREATED:20260115T162802Z
LAST-MODIFIED:20260115T162802Z
UID:10000248-1789203600-1789225200@broadwayva.gov
SUMMARY:Autumn Festival & Antique Car Show - 2026
DESCRIPTION:Coordinated and sponsored by Broadway Lions Club\, the Town & businesses/civic clubs.\nVendors need to call Brenda Pultz at J&B’s Country Store at 540-896-2880.\nFor all other questions (non vendor)\, they can call Lion Cari Orebaugh at 540-578-2698.
URL:https://broadwayva.gov/calendar-events/autumn-festival-antique-car-show-2026/
LOCATION:Main Street
CATEGORIES:Children's Events,Community Event,Festival,Live Entertainment,Local Businesses
ATTACH;FMTTYPE=image/gif:https://broadwayva.gov/wp-content/uploads/2022/01/fall_festival.gif
END:VEVENT
BEGIN:VEVENT
DTSTART;VALUE=DATE:20260926
DTEND;VALUE=DATE:20260927
DTSTAMP:20260422T135116
CREATED:20260115T162924Z
LAST-MODIFIED:20260115T162924Z
UID:10000249-1790380800-1790467199@broadwayva.gov
SUMMARY:Oktoberfest presented by Broadway Hometown Partnership - 2026
DESCRIPTION:Coordinated and sponsored by Broadway Hometown Partnership with sponsorships from businesses
URL:https://broadwayva.gov/calendar-events/oktoberfest-presented-by-broadway-hometown-partnership-2026/
LOCATION:Heritage Park\, 145 Turner Ave.\, Broadway\, VA\, 22815\, United States
CATEGORIES:Festival,Live Entertainment
ATTACH;FMTTYPE=image/gif:https://broadwayva.gov/wp-content/uploads/2022/01/brew_fest.gif
END:VEVENT
BEGIN:VEVENT
DTSTART;TZID=America/New_York:20261029T160000
DTEND;TZID=America/New_York:20261029T190000
DTSTAMP:20260422T135116
CREATED:20260115T163058Z
LAST-MODIFIED:20260115T163058Z
UID:10000250-1793289600-1793300400@broadwayva.gov
SUMMARY:Halloweenfest - 2026
DESCRIPTION:Sponsored and coordinated by Broadway Lions Club & Town with sponsorships from businesses/civic club\nThose interested in sponsoring or volunteering can call Lion Chad Comer at 540-896-6358.
URL:https://broadwayva.gov/calendar-events/halloweenfest-2026/
LOCATION:Town Hall & N. Main St.
CATEGORIES:Children's Events,Community Event
ATTACH;FMTTYPE=image/gif:https://broadwayva.gov/wp-content/uploads/2022/01/halloweenfest.gif
END:VEVENT
BEGIN:VEVENT
DTSTART;TZID=America/New_York:20261202T183000
DTEND;TZID=America/New_York:20261202T193000
DTSTAMP:20260422T135116
CREATED:20260115T163231Z
LAST-MODIFIED:20260115T163231Z
UID:10000251-1796236200-1796239800@broadwayva.gov
SUMMARY:Hometown Holiday Event & Tree Lighting - 2026
DESCRIPTION:Sponsored and coordinated by Broadway Lions Club\, Town\, and additional businesses/civic clubs.\n\n 
URL:https://broadwayva.gov/calendar-events/hometown-holiday-event-tree-lighting-2026/
LOCATION:Heritage Park\, 145 Turner Ave.\, Broadway\, VA\, 22815\, United States
CATEGORIES:Children's Events,Community Event,Holiday
ATTACH;FMTTYPE=image/gif:https://broadwayva.gov/wp-content/uploads/2022/01/tree_lighting.gif
END:VEVENT
BEGIN:VEVENT
DTSTART;TZID=America/New_York:20261213T140000
DTEND;TZID=America/New_York:20261213T150000
DTSTAMP:20260422T135116
CREATED:20260120T135526Z
LAST-MODIFIED:20260120T140938Z
UID:10000254-1797170400-1797174000@broadwayva.gov
SUMMARY:Broadway Fireman’s Parade - 2026
DESCRIPTION:Sponsored and coordinated by Broadway Volunteer Fire Department. All questions are to be directed to them at: 540-896-5101.\nIN THE PAST: Parade starts on W. Lee Street (J. Frank Hillyard Middle School) and ends at the Fire Department 117 N. Central St. No pre-registration required. Lineup starts at 1PM at middle school. Folks can visit with Santa and enjoy free refreshments served at Fire Department after parade.
URL:https://broadwayva.gov/calendar-events/broadway-firemans-parade-2026/
LOCATION:VA
CATEGORIES:Children's Events,Community Event,Holiday
ATTACH;FMTTYPE=image/jpeg:https://broadwayva.gov/wp-content/uploads/2026/01/broadway-volunteer-fire-department-3.jpg
END:VEVENT
BEGIN:VEVENT
DTSTART;VALUE=DATE:20261218
DTEND;VALUE=DATE:20261221
DTSTAMP:20260422T135116
CREATED:20260115T163410Z
LAST-MODIFIED:20260120T143014Z
UID:10000252-1797552000-1797811199@broadwayva.gov
SUMMARY:Decorating Contest – People’s Choice Voting - 2026 (throughout town)
DESCRIPTION:Coordinated by Broadway Lions Club & local business\n\n 
URL:https://broadwayva.gov/calendar-events/decorating-contest-peoples-choice-voting-2026-throughout-town/
LOCATION:VA
CATEGORIES:Children's Events,Community Event,Holiday
ATTACH;FMTTYPE=image/png:https://broadwayva.gov/wp-content/uploads/2026/01/Holiday-Event-2023-4-e1768918761821.png
END:VEVENT
END:VCALENDAR