BEGIN:VCALENDAR
VERSION:2.0
PRODID:-//Town of Broadway Virginia - ECPv6.15.20//NONSGML v1.0//EN
CALSCALE:GREGORIAN
METHOD:PUBLISH
X-ORIGINAL-URL:https://broadwayva.gov
X-WR-CALDESC:Events for Town of Broadway Virginia
REFRESH-INTERVAL;VALUE=DURATION:PT1H
X-Robots-Tag:noindex
X-PUBLISHED-TTL:PT1H
BEGIN:VTIMEZONE
TZID:America/New_York
BEGIN:DAYLIGHT
TZOFFSETFROM:-0500
TZOFFSETTO:-0400
TZNAME:EDT
DTSTART:20250309T070000
END:DAYLIGHT
BEGIN:STANDARD
TZOFFSETFROM:-0400
TZOFFSETTO:-0500
TZNAME:EST
DTSTART:20251102T060000
END:STANDARD
BEGIN:DAYLIGHT
TZOFFSETFROM:-0500
TZOFFSETTO:-0400
TZNAME:EDT
DTSTART:20260308T070000
END:DAYLIGHT
BEGIN:STANDARD
TZOFFSETFROM:-0400
TZOFFSETTO:-0500
TZNAME:EST
DTSTART:20261101T060000
END:STANDARD
BEGIN:DAYLIGHT
TZOFFSETFROM:-0500
TZOFFSETTO:-0400
TZNAME:EDT
DTSTART:20270314T070000
END:DAYLIGHT
BEGIN:STANDARD
TZOFFSETFROM:-0400
TZOFFSETTO:-0500
TZNAME:EST
DTSTART:20271107T060000
END:STANDARD
END:VTIMEZONE
BEGIN:VEVENT
DTSTART;VALUE=DATE:20260418
DTEND;VALUE=DATE:20260419
DTSTAMP:20260422T124324
CREATED:20260115T161019Z
LAST-MODIFIED:20260115T161019Z
UID:10000245-1776470400-1776556799@broadwayva.gov
SUMMARY:Broadway Community Yard Sale (throughout town) - 2026
DESCRIPTION:Coordinated by Broadway\, VA Facebook Page\nDetails coming soon.
URL:https://broadwayva.gov/calendar-events/broadway-community-yard-sale-throughout-town-2026/
LOCATION:VA
CATEGORIES:Community Event
ATTACH;FMTTYPE=image/gif:https://broadwayva.gov/wp-content/uploads/2022/01/yard_sale.gif
END:VEVENT
END:VCALENDAR